BEGIN:VCALENDAR
PRODID:http://www.kufer.de/kuferweb / DE
VERSION:2.0
METHOD:PUBLISH
CALSCALE:GREGORIAN
X-WR-TIMEZONE:Europe/Berlin
BEGIN:VTIMEZONE
TZID:Europe/Berlin
X-LIC-LOCATION:Europe/Berlin
BEGIN:DAYLIGHT
TZOFFSETFROM:+0100
TZOFFSETTO:+0200
TZNAME:CEST
DTSTART;TZID=Europe/Berlin:19700329T020000
RRULE:FREQ=YEARLY;INTERVAL=1;BYDAY=-1SU;BYMONTH=3
END:DAYLIGHT
BEGIN:STANDARD
TZOFFSETFROM:+0200
TZOFFSETTO:+0100
TZNAME:CET
DTSTART;TZID=Europe/Berlin:19701025T030000
RRULE:FREQ=YEARLY;INTERVAL=1;BYDAY=-1SU;BYMONTH=10
END:STANDARD
END:VTIMEZONE
BEGIN:VEVENT
DTSTAMP:20260421T153730
DTSTART;TZID=Europe/Berlin:20251103T093000
DTEND;TZID=Europe/Berlin:20251103T123000
UID:252204210-20251103T093000@VHSOFFENBURG
DESCRIPTION:heute in Attelier 1 wegen Vorstudium
SUMMARY:Atelier Malerei - montags (252204210) 
LOCATION:Offenburg Kunstschule Atelier 1, , 
END:VEVENT
BEGIN:VEVENT
DTSTAMP:20260421T153730
DTSTART;TZID=Europe/Berlin:20251110T093000
DTEND;TZID=Europe/Berlin:20251110T120000
UID:252204210-20251110T093000@VHSOFFENBURG
DESCRIPTION:verkürzt
SUMMARY:Atelier Malerei - montags (252204210) 
LOCATION:Offenburg Kunstschule Atelier 1, , 
END:VEVENT
BEGIN:VEVENT
DTSTAMP:20260421T153730
DTSTART;TZID=Europe/Berlin:20251117T093000
DTEND;TZID=Europe/Berlin:20251117T120000
UID:252204210-20251117T093000@VHSOFFENBURG
SUMMARY:Atelier Malerei - montags (252204210) 
LOCATION:Offenburg Kunstschule Atelier 1, , 
END:VEVENT
BEGIN:VEVENT
DTSTAMP:20260421T153730
DTSTART;TZID=Europe/Berlin:20251124T093000
DTEND;TZID=Europe/Berlin:20251124T120000
UID:252204210-20251124T093000@VHSOFFENBURG
SUMMARY:Atelier Malerei - montags (252204210) 
LOCATION:Offenburg Kunstschule Atelier 1, , 
END:VEVENT
BEGIN:VEVENT
DTSTAMP:20260421T153730
DTSTART;TZID=Europe/Berlin:20251201T093000
DTEND;TZID=Europe/Berlin:20251201T120000
UID:252204210-20251201T093000@VHSOFFENBURG
SUMMARY:Atelier Malerei - montags (252204210) 
LOCATION:Offenburg Kunstschule Atelier 1, , 
END:VEVENT
BEGIN:VEVENT
DTSTAMP:20260421T153730
DTSTART;TZID=Europe/Berlin:20251208T093000
DTEND;TZID=Europe/Berlin:20251208T120000
UID:252204210-20251208T093000@VHSOFFENBURG
SUMMARY:Atelier Malerei - montags (252204210) 
LOCATION:Offenburg Kunstschule Atelier 1, , 
END:VEVENT
BEGIN:VEVENT
DTSTAMP:20260421T153730
DTSTART;TZID=Europe/Berlin:20251215T093000
DTEND;TZID=Europe/Berlin:20251215T120000
UID:252204210-20251215T093000@VHSOFFENBURG
SUMMARY:Atelier Malerei - montags (252204210) 
LOCATION:Offenburg Kunstschule Atelier 1, , 
END:VEVENT
BEGIN:VEVENT
DTSTAMP:20260421T153730
DTSTART;TZID=Europe/Berlin:20260112T093000
DTEND;TZID=Europe/Berlin:20260112T120000
UID:252204210-20260112T093000@VHSOFFENBURG
SUMMARY:Atelier Malerei - montags (252204210) 
LOCATION:Offenburg Kunstschule Atelier 1, , 
END:VEVENT
BEGIN:VEVENT
DTSTAMP:20260421T153730
DTSTART;TZID=Europe/Berlin:20260119T093000
DTEND;TZID=Europe/Berlin:20260119T120000
UID:252204210-20260119T093000@VHSOFFENBURG
SUMMARY:Atelier Malerei - montags (252204210) 
LOCATION:Offenburg Kunstschule Atelier 1, , 
END:VEVENT
BEGIN:VEVENT
DTSTAMP:20260421T153730
DTSTART;TZID=Europe/Berlin:20260126T093000
DTEND;TZID=Europe/Berlin:20260126T120000
UID:252204210-20260126T093000@VHSOFFENBURG
SUMMARY:Atelier Malerei - montags (252204210) 
LOCATION:Offenburg Kunstschule Atelier 1, , 
END:VEVENT
BEGIN:VEVENT
DTSTAMP:20260421T153730
DTSTART;TZID=Europe/Berlin:20260202T093000
DTEND;TZID=Europe/Berlin:20260202T120000
UID:252204210-20260202T093000@VHSOFFENBURG
SUMMARY:Atelier Malerei - montags (252204210) 
LOCATION:Offenburg Kunstschule Atelier 1, , 
END:VEVENT
BEGIN:VEVENT
DTSTAMP:20260421T153730
DTSTART;TZID=Europe/Berlin:20260209T093000
DTEND;TZID=Europe/Berlin:20260209T120000
UID:252204210-20260209T093000@VHSOFFENBURG
SUMMARY:Atelier Malerei - montags (252204210) 
LOCATION:Offenburg Kunstschule Atelier 1, , 
END:VEVENT
BEGIN:VEVENT
DTSTAMP:20260421T153730
DTSTART;TZID=Europe/Berlin:20260223T093000
DTEND;TZID=Europe/Berlin:20260223T120000
UID:252204210-20260223T093000@VHSOFFENBURG
SUMMARY:Atelier Malerei - montags (252204210) 
LOCATION:Offenburg Kunstschule Atelier 1, , 
END:VEVENT
BEGIN:VEVENT
DTSTAMP:20260421T153730
DTSTART;TZID=Europe/Berlin:20260302T093000
DTEND;TZID=Europe/Berlin:20260302T120000
UID:252204210-20260302T093000@VHSOFFENBURG
SUMMARY:Atelier Malerei - montags (252204210) 
LOCATION:Offenburg Kunstschule Atelier 1, , 
END:VEVENT
BEGIN:VEVENT
DTSTAMP:20260421T153730
DTSTART;TZID=Europe/Berlin:20260309T093000
DTEND;TZID=Europe/Berlin:20260309T120000
UID:252204210-20260309T093000@VHSOFFENBURG
SUMMARY:Atelier Malerei - montags (252204210) 
LOCATION:Offenburg Kunstschule Atelier 1, , 
END:VEVENT
BEGIN:VEVENT
DTSTAMP:20260421T153730
DTSTART;TZID=Europe/Berlin:20260316T093000
DTEND;TZID=Europe/Berlin:20260316T120000
UID:252204210-20260316T093000@VHSOFFENBURG
SUMMARY:Atelier Malerei - montags (252204210) 
LOCATION:Offenburg Kunstschule Atelier 1, , 
END:VEVENT
BEGIN:VEVENT
DTSTAMP:20260421T153730
DTSTART;TZID=Europe/Berlin:20260323T093000
DTEND;TZID=Europe/Berlin:20260323T120000
UID:252204210-20260323T093000@VHSOFFENBURG
SUMMARY:Atelier Malerei - montags (252204210) 
LOCATION:Offenburg Kunstschule Atelier 1, , 
END:VEVENT
BEGIN:VEVENT
DTSTAMP:20260421T153730
DTSTART;TZID=Europe/Berlin:20260413T093000
DTEND;TZID=Europe/Berlin:20260413T120000
UID:252204210-20260413T093000@VHSOFFENBURG
SUMMARY:Atelier Malerei - montags (252204210) 
LOCATION:Offenburg Kunstschule Atelier 1, , 
END:VEVENT
BEGIN:VEVENT
DTSTAMP:20260421T153730
DTSTART;TZID=Europe/Berlin:20260420T093000
DTEND;TZID=Europe/Berlin:20260420T120000
UID:252204210-20260420T093000@VHSOFFENBURG
SUMMARY:Atelier Malerei - montags (252204210) 
LOCATION:Offenburg Kunstschule Atelier 1, , 
END:VEVENT
BEGIN:VEVENT
DTSTAMP:20260421T153730
DTSTART;TZID=Europe/Berlin:20260427T093000
DTEND;TZID=Europe/Berlin:20260427T120000
UID:252204210-20260427T093000@VHSOFFENBURG
SUMMARY:Atelier Malerei - montags (252204210) 
LOCATION:Offenburg Kunstschule Atelier 1, , 
END:VEVENT
BEGIN:VEVENT
DTSTAMP:20260421T153730
DTSTART;TZID=Europe/Berlin:20260504T093000
DTEND;TZID=Europe/Berlin:20260504T120000
UID:252204210-20260504T093000@VHSOFFENBURG
SUMMARY:Atelier Malerei - montags (252204210) 
LOCATION:Offenburg Kunstschule Atelier 1, , 
END:VEVENT
BEGIN:VEVENT
DTSTAMP:20260421T153730
DTSTART;TZID=Europe/Berlin:20260511T093000
DTEND;TZID=Europe/Berlin:20260511T120000
UID:252204210-20260511T093000@VHSOFFENBURG
SUMMARY:Atelier Malerei - montags (252204210) 
LOCATION:Offenburg Kunstschule Atelier 1, , 
END:VEVENT
BEGIN:VEVENT
DTSTAMP:20260421T153730
DTSTART;TZID=Europe/Berlin:20260518T093000
DTEND;TZID=Europe/Berlin:20260518T120000
UID:252204210-20260518T093000@VHSOFFENBURG
SUMMARY:Atelier Malerei - montags (252204210) 
LOCATION:Offenburg Kunstschule Atelier 1, , 
END:VEVENT
BEGIN:VEVENT
DTSTAMP:20260421T153730
DTSTART;TZID=Europe/Berlin:20260608T093000
DTEND;TZID=Europe/Berlin:20260608T120000
UID:252204210-20260608T093000@VHSOFFENBURG
SUMMARY:Atelier Malerei - montags (252204210) 
LOCATION:Offenburg Kunstschule Atelier 1, , 
END:VEVENT
BEGIN:VEVENT
DTSTAMP:20260421T153730
DTSTART;TZID=Europe/Berlin:20260615T093000
DTEND;TZID=Europe/Berlin:20260615T120000
UID:252204210-20260615T093000@VHSOFFENBURG
SUMMARY:Atelier Malerei - montags (252204210) 
LOCATION:Offenburg Kunstschule Atelier 1, , 
END:VEVENT
BEGIN:VEVENT
DTSTAMP:20260421T153730
DTSTART;TZID=Europe/Berlin:20260622T093000
DTEND;TZID=Europe/Berlin:20260622T120000
UID:252204210-20260622T093000@VHSOFFENBURG
SUMMARY:Atelier Malerei - montags (252204210) 
LOCATION:Offenburg Kunstschule Atelier 1, , 
END:VEVENT
BEGIN:VEVENT
DTSTAMP:20260421T153730
DTSTART;TZID=Europe/Berlin:20260629T093000
DTEND;TZID=Europe/Berlin:20260629T120000
UID:252204210-20260629T093000@VHSOFFENBURG
SUMMARY:Atelier Malerei - montags (252204210) 
LOCATION:Offenburg Kunstschule Atelier 1, , 
END:VEVENT
BEGIN:VEVENT
DTSTAMP:20260421T153730
DTSTART;TZID=Europe/Berlin:20260706T093000
DTEND;TZID=Europe/Berlin:20260706T120000
UID:252204210-20260706T093000@VHSOFFENBURG
SUMMARY:Atelier Malerei - montags (252204210) 
LOCATION:Offenburg Kunstschule Atelier 1, , 
END:VEVENT
BEGIN:VEVENT
DTSTAMP:20260421T153730
DTSTART;TZID=Europe/Berlin:20260713T093000
DTEND;TZID=Europe/Berlin:20260713T120000
UID:252204210-20260713T093000@VHSOFFENBURG
SUMMARY:Atelier Malerei - montags (252204210) 
LOCATION:Offenburg Kunstschule Atelier 1, , 
END:VEVENT
BEGIN:VEVENT
DTSTAMP:20260421T153730
DTSTART;TZID=Europe/Berlin:20260720T093000
DTEND;TZID=Europe/Berlin:20260720T120000
UID:252204210-20260720T093000@VHSOFFENBURG
SUMMARY:Atelier Malerei - montags (252204210) 
LOCATION:Offenburg Kunstschule Atelier 1, , 
END:VEVENT
END:VCALENDAR