BEGIN:VCALENDAR
PRODID:http://www.kufer.de/kuferweb / DE
VERSION:2.0
METHOD:PUBLISH
CALSCALE:GREGORIAN
X-WR-TIMEZONE:Europe/Berlin
BEGIN:VTIMEZONE
TZID:Europe/Berlin
X-LIC-LOCATION:Europe/Berlin
BEGIN:DAYLIGHT
TZOFFSETFROM:+0100
TZOFFSETTO:+0200
TZNAME:CEST
DTSTART;TZID=Europe/Berlin:19700329T020000
RRULE:FREQ=YEARLY;INTERVAL=1;BYDAY=-1SU;BYMONTH=3
END:DAYLIGHT
BEGIN:STANDARD
TZOFFSETFROM:+0200
TZOFFSETTO:+0100
TZNAME:CET
DTSTART;TZID=Europe/Berlin:19701025T030000
RRULE:FREQ=YEARLY;INTERVAL=1;BYDAY=-1SU;BYMONTH=10
END:STANDARD
END:VTIMEZONE
BEGIN:VEVENT
DTSTAMP:20260421T123132
DTSTART;TZID=Europe/Berlin:20260112T143000
DTEND;TZID=Europe/Berlin:20260112T160000
UID:252821101-20260112T143000@VHSOFFENBURG
SUMMARY:Kinderatelier am Montag 6 - 10 Jahre (252821101) 
LOCATION:Offenburg Kunstschule Atelier 3, , 
END:VEVENT
BEGIN:VEVENT
DTSTAMP:20260421T123132
DTSTART;TZID=Europe/Berlin:20260119T143000
DTEND;TZID=Europe/Berlin:20260119T160000
UID:252821101-20260119T143000@VHSOFFENBURG
SUMMARY:Kinderatelier am Montag 6 - 10 Jahre (252821101) 
LOCATION:Offenburg Kunstschule Atelier 3, , 
END:VEVENT
BEGIN:VEVENT
DTSTAMP:20260421T123132
DTSTART;TZID=Europe/Berlin:20260126T143000
DTEND;TZID=Europe/Berlin:20260126T160000
UID:252821101-20260126T143000@VHSOFFENBURG
SUMMARY:Kinderatelier am Montag 6 - 10 Jahre (252821101) 
LOCATION:Offenburg Kunstschule Atelier 3, , 
END:VEVENT
BEGIN:VEVENT
DTSTAMP:20260421T123132
DTSTART;TZID=Europe/Berlin:20260202T143000
DTEND;TZID=Europe/Berlin:20260202T160000
UID:252821101-20260202T143000@VHSOFFENBURG
SUMMARY:Kinderatelier am Montag 6 - 10 Jahre (252821101) 
LOCATION:Offenburg Kunstschule Atelier 3, , 
END:VEVENT
BEGIN:VEVENT
DTSTAMP:20260421T123132
DTSTART;TZID=Europe/Berlin:20260209T143000
DTEND;TZID=Europe/Berlin:20260209T160000
UID:252821101-20260209T143000@VHSOFFENBURG
SUMMARY:Kinderatelier am Montag 6 - 10 Jahre (252821101) 
LOCATION:Offenburg Kunstschule Atelier 3, , 
END:VEVENT
BEGIN:VEVENT
DTSTAMP:20260421T123132
DTSTART;TZID=Europe/Berlin:20260223T143000
DTEND;TZID=Europe/Berlin:20260223T160000
UID:252821101-20260223T143000@VHSOFFENBURG
SUMMARY:Kinderatelier am Montag 6 - 10 Jahre (252821101) 
LOCATION:Offenburg Kunstschule Atelier 3, , 
END:VEVENT
BEGIN:VEVENT
DTSTAMP:20260421T123132
DTSTART;TZID=Europe/Berlin:20260302T143000
DTEND;TZID=Europe/Berlin:20260302T160000
UID:252821101-20260302T143000@VHSOFFENBURG
SUMMARY:Kinderatelier am Montag 6 - 10 Jahre (252821101) 
LOCATION:Offenburg Kunstschule Atelier 3, , 
END:VEVENT
BEGIN:VEVENT
DTSTAMP:20260421T123132
DTSTART;TZID=Europe/Berlin:20260309T143000
DTEND;TZID=Europe/Berlin:20260309T160000
UID:252821101-20260309T143000@VHSOFFENBURG
SUMMARY:Kinderatelier am Montag 6 - 10 Jahre (252821101) 
LOCATION:Offenburg Kunstschule Atelier 3, , 
END:VEVENT
BEGIN:VEVENT
DTSTAMP:20260421T123132
DTSTART;TZID=Europe/Berlin:20260316T143000
DTEND;TZID=Europe/Berlin:20260316T160000
UID:252821101-20260316T143000@VHSOFFENBURG
SUMMARY:Kinderatelier am Montag 6 - 10 Jahre (252821101) 
LOCATION:Offenburg Kunstschule Atelier 3, , 
END:VEVENT
BEGIN:VEVENT
DTSTAMP:20260421T123132
DTSTART;TZID=Europe/Berlin:20260323T143000
DTEND;TZID=Europe/Berlin:20260323T160000
UID:252821101-20260323T143000@VHSOFFENBURG
SUMMARY:Kinderatelier am Montag 6 - 10 Jahre (252821101) 
LOCATION:Offenburg Kunstschule Atelier 3, , 
END:VEVENT
BEGIN:VEVENT
DTSTAMP:20260421T123132
DTSTART;TZID=Europe/Berlin:20260413T143000
DTEND;TZID=Europe/Berlin:20260413T160000
UID:252821101-20260413T143000@VHSOFFENBURG
SUMMARY:Kinderatelier am Montag 6 - 10 Jahre (252821101) 
LOCATION:Offenburg Kunstschule Atelier 3, , 
END:VEVENT
BEGIN:VEVENT
DTSTAMP:20260421T123132
DTSTART;TZID=Europe/Berlin:20260420T143000
DTEND;TZID=Europe/Berlin:20260420T160000
UID:252821101-20260420T143000@VHSOFFENBURG
SUMMARY:Kinderatelier am Montag 6 - 10 Jahre (252821101) 
LOCATION:Offenburg Kunstschule Atelier 3, , 
END:VEVENT
BEGIN:VEVENT
DTSTAMP:20260421T123132
DTSTART;TZID=Europe/Berlin:20260427T143000
DTEND;TZID=Europe/Berlin:20260427T160000
UID:252821101-20260427T143000@VHSOFFENBURG
SUMMARY:Kinderatelier am Montag 6 - 10 Jahre (252821101) 
LOCATION:Offenburg Kunstschule Atelier 3, , 
END:VEVENT
BEGIN:VEVENT
DTSTAMP:20260421T123132
DTSTART;TZID=Europe/Berlin:20260504T143000
DTEND;TZID=Europe/Berlin:20260504T160000
UID:252821101-20260504T143000@VHSOFFENBURG
SUMMARY:Kinderatelier am Montag 6 - 10 Jahre (252821101) 
LOCATION:Offenburg Kunstschule Atelier 3, , 
END:VEVENT
BEGIN:VEVENT
DTSTAMP:20260421T123132
DTSTART;TZID=Europe/Berlin:20260511T143000
DTEND;TZID=Europe/Berlin:20260511T160000
UID:252821101-20260511T143000@VHSOFFENBURG
SUMMARY:Kinderatelier am Montag 6 - 10 Jahre (252821101) 
LOCATION:Offenburg Kunstschule Atelier 3, , 
END:VEVENT
BEGIN:VEVENT
DTSTAMP:20260421T123132
DTSTART;TZID=Europe/Berlin:20260518T143000
DTEND;TZID=Europe/Berlin:20260518T160000
UID:252821101-20260518T143000@VHSOFFENBURG
SUMMARY:Kinderatelier am Montag 6 - 10 Jahre (252821101) 
LOCATION:Offenburg Kunstschule Atelier 3, , 
END:VEVENT
BEGIN:VEVENT
DTSTAMP:20260421T123132
DTSTART;TZID=Europe/Berlin:20260608T143000
DTEND;TZID=Europe/Berlin:20260608T160000
UID:252821101-20260608T143000@VHSOFFENBURG
SUMMARY:Kinderatelier am Montag 6 - 10 Jahre (252821101) 
LOCATION:Offenburg Kunstschule Atelier 3, , 
END:VEVENT
BEGIN:VEVENT
DTSTAMP:20260421T123132
DTSTART;TZID=Europe/Berlin:20260615T143000
DTEND;TZID=Europe/Berlin:20260615T160000
UID:252821101-20260615T143000@VHSOFFENBURG
SUMMARY:Kinderatelier am Montag 6 - 10 Jahre (252821101) 
LOCATION:Offenburg Kunstschule Atelier 3, , 
END:VEVENT
BEGIN:VEVENT
DTSTAMP:20260421T123132
DTSTART;TZID=Europe/Berlin:20260622T143000
DTEND;TZID=Europe/Berlin:20260622T160000
UID:252821101-20260622T143000@VHSOFFENBURG
SUMMARY:Kinderatelier am Montag 6 - 10 Jahre (252821101) 
LOCATION:Offenburg Kunstschule Atelier 3, , 
END:VEVENT
BEGIN:VEVENT
DTSTAMP:20260421T123132
DTSTART;TZID=Europe/Berlin:20260629T143000
DTEND;TZID=Europe/Berlin:20260629T160000
UID:252821101-20260629T143000@VHSOFFENBURG
SUMMARY:Kinderatelier am Montag 6 - 10 Jahre (252821101) 
LOCATION:Offenburg Kunstschule Atelier 3, , 
END:VEVENT
BEGIN:VEVENT
DTSTAMP:20260421T123132
DTSTART;TZID=Europe/Berlin:20260706T143000
DTEND;TZID=Europe/Berlin:20260706T160000
UID:252821101-20260706T143000@VHSOFFENBURG
SUMMARY:Kinderatelier am Montag 6 - 10 Jahre (252821101) 
LOCATION:Offenburg Kunstschule Atelier 3, , 
END:VEVENT
BEGIN:VEVENT
DTSTAMP:20260421T123132
DTSTART;TZID=Europe/Berlin:20260713T143000
DTEND;TZID=Europe/Berlin:20260713T160000
UID:252821101-20260713T143000@VHSOFFENBURG
SUMMARY:Kinderatelier am Montag 6 - 10 Jahre (252821101) 
LOCATION:Offenburg Kunstschule Atelier 3, , 
END:VEVENT
BEGIN:VEVENT
DTSTAMP:20260421T123132
DTSTART;TZID=Europe/Berlin:20260720T143000
DTEND;TZID=Europe/Berlin:20260720T160000
UID:252821101-20260720T143000@VHSOFFENBURG
SUMMARY:Kinderatelier am Montag 6 - 10 Jahre (252821101) 
LOCATION:Offenburg Kunstschule Atelier 3, , 
END:VEVENT
BEGIN:VEVENT
DTSTAMP:20260421T123132
DTSTART;TZID=Europe/Berlin:20260727T143000
DTEND;TZID=Europe/Berlin:20260727T160000
UID:252821101-20260727T143000@VHSOFFENBURG
SUMMARY:Kinderatelier am Montag 6 - 10 Jahre (252821101) 
LOCATION:Offenburg Kunstschule Atelier 3, , 
END:VEVENT
END:VCALENDAR