BEGIN:VCALENDAR
PRODID:http://www.kufer.de/kuferweb / DE
VERSION:2.0
METHOD:PUBLISH
CALSCALE:GREGORIAN
X-WR-TIMEZONE:Europe/Berlin
BEGIN:VTIMEZONE
TZID:Europe/Berlin
X-LIC-LOCATION:Europe/Berlin
BEGIN:DAYLIGHT
TZOFFSETFROM:+0100
TZOFFSETTO:+0200
TZNAME:CEST
DTSTART;TZID=Europe/Berlin:19700329T020000
RRULE:FREQ=YEARLY;INTERVAL=1;BYDAY=-1SU;BYMONTH=3
END:DAYLIGHT
BEGIN:STANDARD
TZOFFSETFROM:+0200
TZOFFSETTO:+0100
TZNAME:CET
DTSTART;TZID=Europe/Berlin:19701025T030000
RRULE:FREQ=YEARLY;INTERVAL=1;BYDAY=-1SU;BYMONTH=10
END:STANDARD
END:VTIMEZONE
BEGIN:VEVENT
DTSTAMP:20260421T192911
DTSTART;TZID=Europe/Berlin:20260120T164500
DTEND;TZID=Europe/Berlin:20260120T174500
UID:252821203-20260120T164500@VHSOFFENBURG
SUMMARY:Miniatelier am Dienstag (252821203) 
LOCATION:Offenburg Kunstschule Atelier 4, , 
END:VEVENT
BEGIN:VEVENT
DTSTAMP:20260421T192911
DTSTART;TZID=Europe/Berlin:20260127T164500
DTEND;TZID=Europe/Berlin:20260127T174500
UID:252821203-20260127T164500@VHSOFFENBURG
SUMMARY:Miniatelier am Dienstag (252821203) 
LOCATION:Offenburg Kunstschule Atelier 4, , 
END:VEVENT
BEGIN:VEVENT
DTSTAMP:20260421T192911
DTSTART;TZID=Europe/Berlin:20260203T164500
DTEND;TZID=Europe/Berlin:20260203T174500
UID:252821203-20260203T164500@VHSOFFENBURG
SUMMARY:Miniatelier am Dienstag (252821203) 
LOCATION:Offenburg Kunstschule Atelier 4, , 
END:VEVENT
BEGIN:VEVENT
DTSTAMP:20260421T192911
DTSTART;TZID=Europe/Berlin:20260210T164500
DTEND;TZID=Europe/Berlin:20260210T174500
UID:252821203-20260210T164500@VHSOFFENBURG
SUMMARY:Miniatelier am Dienstag (252821203) 
LOCATION:Offenburg Kunstschule Atelier 4, , 
END:VEVENT
BEGIN:VEVENT
DTSTAMP:20260421T192911
DTSTART;TZID=Europe/Berlin:20260224T164500
DTEND;TZID=Europe/Berlin:20260224T174500
UID:252821203-20260224T164500@VHSOFFENBURG
SUMMARY:Miniatelier am Dienstag (252821203) 
LOCATION:Offenburg Kunstschule Atelier 4, , 
END:VEVENT
BEGIN:VEVENT
DTSTAMP:20260421T192911
DTSTART;TZID=Europe/Berlin:20260303T164500
DTEND;TZID=Europe/Berlin:20260303T174500
UID:252821203-20260303T164500@VHSOFFENBURG
SUMMARY:Miniatelier am Dienstag (252821203) 
LOCATION:Offenburg Kunstschule Atelier 4, , 
END:VEVENT
BEGIN:VEVENT
DTSTAMP:20260421T192911
DTSTART;TZID=Europe/Berlin:20260310T164500
DTEND;TZID=Europe/Berlin:20260310T174500
UID:252821203-20260310T164500@VHSOFFENBURG
SUMMARY:Miniatelier am Dienstag (252821203) 
LOCATION:Offenburg Kunstschule Atelier 4, , 
END:VEVENT
BEGIN:VEVENT
DTSTAMP:20260421T192911
DTSTART;TZID=Europe/Berlin:20260317T164500
DTEND;TZID=Europe/Berlin:20260317T174500
UID:252821203-20260317T164500@VHSOFFENBURG
SUMMARY:Miniatelier am Dienstag (252821203) 
LOCATION:Offenburg Kunstschule Atelier 4, , 
END:VEVENT
BEGIN:VEVENT
DTSTAMP:20260421T192911
DTSTART;TZID=Europe/Berlin:20260324T164500
DTEND;TZID=Europe/Berlin:20260324T174500
UID:252821203-20260324T164500@VHSOFFENBURG
SUMMARY:Miniatelier am Dienstag (252821203) 
LOCATION:Offenburg Kunstschule Atelier 4, , 
END:VEVENT
BEGIN:VEVENT
DTSTAMP:20260421T192911
DTSTART;TZID=Europe/Berlin:20260414T164500
DTEND;TZID=Europe/Berlin:20260414T174500
UID:252821203-20260414T164500@VHSOFFENBURG
SUMMARY:Miniatelier am Dienstag (252821203) 
LOCATION:Offenburg Kunstschule Atelier 4, , 
END:VEVENT
BEGIN:VEVENT
DTSTAMP:20260421T192911
DTSTART;TZID=Europe/Berlin:20260421T164500
DTEND;TZID=Europe/Berlin:20260421T174500
UID:252821203-20260421T164500@VHSOFFENBURG
SUMMARY:Miniatelier am Dienstag (252821203) 
LOCATION:Offenburg Kunstschule Atelier 4, , 
END:VEVENT
BEGIN:VEVENT
DTSTAMP:20260421T192911
DTSTART;TZID=Europe/Berlin:20260428T164500
DTEND;TZID=Europe/Berlin:20260428T174500
UID:252821203-20260428T164500@VHSOFFENBURG
SUMMARY:Miniatelier am Dienstag (252821203) 
LOCATION:Offenburg Kunstschule Atelier 4, , 
END:VEVENT
BEGIN:VEVENT
DTSTAMP:20260421T192911
DTSTART;TZID=Europe/Berlin:20260505T164500
DTEND;TZID=Europe/Berlin:20260505T174500
UID:252821203-20260505T164500@VHSOFFENBURG
SUMMARY:Miniatelier am Dienstag (252821203) 
LOCATION:Offenburg Kunstschule Atelier 4, , 
END:VEVENT
BEGIN:VEVENT
DTSTAMP:20260421T192911
DTSTART;TZID=Europe/Berlin:20260512T164500
DTEND;TZID=Europe/Berlin:20260512T174500
UID:252821203-20260512T164500@VHSOFFENBURG
SUMMARY:Miniatelier am Dienstag (252821203) 
LOCATION:Offenburg Kunstschule Atelier 4, , 
END:VEVENT
BEGIN:VEVENT
DTSTAMP:20260421T192911
DTSTART;TZID=Europe/Berlin:20260519T164500
DTEND;TZID=Europe/Berlin:20260519T174500
UID:252821203-20260519T164500@VHSOFFENBURG
SUMMARY:Miniatelier am Dienstag (252821203) 
LOCATION:Offenburg Kunstschule Atelier 4, , 
END:VEVENT
BEGIN:VEVENT
DTSTAMP:20260421T192911
DTSTART;TZID=Europe/Berlin:20260609T164500
DTEND;TZID=Europe/Berlin:20260609T174500
UID:252821203-20260609T164500@VHSOFFENBURG
SUMMARY:Miniatelier am Dienstag (252821203) 
LOCATION:Offenburg Kunstschule Atelier 4, , 
END:VEVENT
BEGIN:VEVENT
DTSTAMP:20260421T192911
DTSTART;TZID=Europe/Berlin:20260616T164500
DTEND;TZID=Europe/Berlin:20260616T174500
UID:252821203-20260616T164500@VHSOFFENBURG
SUMMARY:Miniatelier am Dienstag (252821203) 
LOCATION:Offenburg Kunstschule Atelier 4, , 
END:VEVENT
BEGIN:VEVENT
DTSTAMP:20260421T192911
DTSTART;TZID=Europe/Berlin:20260623T164500
DTEND;TZID=Europe/Berlin:20260623T174500
UID:252821203-20260623T164500@VHSOFFENBURG
SUMMARY:Miniatelier am Dienstag (252821203) 
LOCATION:Offenburg Kunstschule Atelier 4, , 
END:VEVENT
BEGIN:VEVENT
DTSTAMP:20260421T192911
DTSTART;TZID=Europe/Berlin:20260630T164500
DTEND;TZID=Europe/Berlin:20260630T174500
UID:252821203-20260630T164500@VHSOFFENBURG
SUMMARY:Miniatelier am Dienstag (252821203) 
LOCATION:Offenburg Kunstschule Atelier 4, , 
END:VEVENT
BEGIN:VEVENT
DTSTAMP:20260421T192911
DTSTART;TZID=Europe/Berlin:20260707T164500
DTEND;TZID=Europe/Berlin:20260707T174500
UID:252821203-20260707T164500@VHSOFFENBURG
SUMMARY:Miniatelier am Dienstag (252821203) 
LOCATION:Offenburg Kunstschule Atelier 4, , 
END:VEVENT
BEGIN:VEVENT
DTSTAMP:20260421T192911
DTSTART;TZID=Europe/Berlin:20260714T164500
DTEND;TZID=Europe/Berlin:20260714T174500
UID:252821203-20260714T164500@VHSOFFENBURG
SUMMARY:Miniatelier am Dienstag (252821203) 
LOCATION:Offenburg Kunstschule Atelier 4, , 
END:VEVENT
BEGIN:VEVENT
DTSTAMP:20260421T192911
DTSTART;TZID=Europe/Berlin:20260721T164500
DTEND;TZID=Europe/Berlin:20260721T174500
UID:252821203-20260721T164500@VHSOFFENBURG
SUMMARY:Miniatelier am Dienstag (252821203) 
LOCATION:Offenburg Kunstschule Atelier 4, , 
END:VEVENT
BEGIN:VEVENT
DTSTAMP:20260421T192911
DTSTART;TZID=Europe/Berlin:20260728T164500
DTEND;TZID=Europe/Berlin:20260728T174500
UID:252821203-20260728T164500@VHSOFFENBURG
SUMMARY:Miniatelier am Dienstag (252821203) 
LOCATION:Offenburg Kunstschule Atelier 4, , 
END:VEVENT
END:VCALENDAR