BEGIN:VCALENDAR
PRODID:http://www.kufer.de/kuferweb / DE
VERSION:2.0
METHOD:PUBLISH
CALSCALE:GREGORIAN
X-WR-TIMEZONE:Europe/Berlin
BEGIN:VTIMEZONE
TZID:Europe/Berlin
X-LIC-LOCATION:Europe/Berlin
BEGIN:DAYLIGHT
TZOFFSETFROM:+0100
TZOFFSETTO:+0200
TZNAME:CEST
DTSTART;TZID=Europe/Berlin:19700329T020000
RRULE:FREQ=YEARLY;INTERVAL=1;BYDAY=-1SU;BYMONTH=3
END:DAYLIGHT
BEGIN:STANDARD
TZOFFSETFROM:+0200
TZOFFSETTO:+0100
TZNAME:CET
DTSTART;TZID=Europe/Berlin:19701025T030000
RRULE:FREQ=YEARLY;INTERVAL=1;BYDAY=-1SU;BYMONTH=10
END:STANDARD
END:VTIMEZONE
BEGIN:VEVENT
DTSTAMP:20260419T163714
DTSTART;TZID=Europe/Berlin:20250918T143000
DTEND;TZID=Europe/Berlin:20250918T153000
UID:252821431-20250918T143000@VHSOFFENBURG
SUMMARY:Kinder-Tanz 4 - 6 Jahre (252821431) 
LOCATION:Offenburg Kunstschule Atelier 6 Bewegungsatelier, , 
END:VEVENT
BEGIN:VEVENT
DTSTAMP:20260419T163714
DTSTART;TZID=Europe/Berlin:20250925T143000
DTEND;TZID=Europe/Berlin:20250925T153000
UID:252821431-20250925T143000@VHSOFFENBURG
SUMMARY:Kinder-Tanz 4 - 6 Jahre (252821431) 
LOCATION:Offenburg Kunstschule Atelier 6 Bewegungsatelier, , 
END:VEVENT
BEGIN:VEVENT
DTSTAMP:20260419T163714
DTSTART;TZID=Europe/Berlin:20251002T143000
DTEND;TZID=Europe/Berlin:20251002T153000
UID:252821431-20251002T143000@VHSOFFENBURG
SUMMARY:Kinder-Tanz 4 - 6 Jahre (252821431) 
LOCATION:Offenburg Kunstschule Atelier 6 Bewegungsatelier, , 
END:VEVENT
BEGIN:VEVENT
DTSTAMP:20260419T163714
DTSTART;TZID=Europe/Berlin:20251009T143000
DTEND;TZID=Europe/Berlin:20251009T153000
UID:252821431-20251009T143000@VHSOFFENBURG
SUMMARY:Kinder-Tanz 4 - 6 Jahre (252821431) 
LOCATION:Offenburg Kunstschule Atelier 6 Bewegungsatelier, , 
END:VEVENT
BEGIN:VEVENT
DTSTAMP:20260419T163714
DTSTART;TZID=Europe/Berlin:20251016T143000
DTEND;TZID=Europe/Berlin:20251016T153000
UID:252821431-20251016T143000@VHSOFFENBURG
SUMMARY:Kinder-Tanz 4 - 6 Jahre (252821431) 
LOCATION:Offenburg Kunstschule Atelier 6 Bewegungsatelier, , 
END:VEVENT
BEGIN:VEVENT
DTSTAMP:20260419T163714
DTSTART;TZID=Europe/Berlin:20251023T143000
DTEND;TZID=Europe/Berlin:20251023T153000
UID:252821431-20251023T143000@VHSOFFENBURG
SUMMARY:Kinder-Tanz 4 - 6 Jahre (252821431) 
LOCATION:Offenburg Kunstschule Atelier 6 Bewegungsatelier, , 
END:VEVENT
BEGIN:VEVENT
DTSTAMP:20260419T163714
DTSTART;TZID=Europe/Berlin:20251106T143000
DTEND;TZID=Europe/Berlin:20251106T153000
UID:252821431-20251106T143000@VHSOFFENBURG
SUMMARY:Kinder-Tanz 4 - 6 Jahre (252821431) 
LOCATION:Offenburg Kunstschule Atelier 6 Bewegungsatelier, , 
END:VEVENT
BEGIN:VEVENT
DTSTAMP:20260419T163714
DTSTART;TZID=Europe/Berlin:20251113T143000
DTEND;TZID=Europe/Berlin:20251113T153000
UID:252821431-20251113T143000@VHSOFFENBURG
SUMMARY:Kinder-Tanz 4 - 6 Jahre (252821431) 
LOCATION:Offenburg Kunstschule Atelier 6 Bewegungsatelier, , 
END:VEVENT
BEGIN:VEVENT
DTSTAMP:20260419T163714
DTSTART;TZID=Europe/Berlin:20251120T143000
DTEND;TZID=Europe/Berlin:20251120T153000
UID:252821431-20251120T143000@VHSOFFENBURG
SUMMARY:Kinder-Tanz 4 - 6 Jahre (252821431) 
LOCATION:Offenburg Kunstschule Atelier 6 Bewegungsatelier, , 
END:VEVENT
BEGIN:VEVENT
DTSTAMP:20260419T163714
DTSTART;TZID=Europe/Berlin:20251127T143000
DTEND;TZID=Europe/Berlin:20251127T153000
UID:252821431-20251127T143000@VHSOFFENBURG
SUMMARY:Kinder-Tanz 4 - 6 Jahre (252821431) 
LOCATION:Offenburg Kunstschule Atelier 6 Bewegungsatelier, , 
END:VEVENT
BEGIN:VEVENT
DTSTAMP:20260419T163714
DTSTART;TZID=Europe/Berlin:20251211T143000
DTEND;TZID=Europe/Berlin:20251211T153000
UID:252821431-20251211T143000@VHSOFFENBURG
SUMMARY:Kinder-Tanz 4 - 6 Jahre (252821431) 
LOCATION:Offenburg Kunstschule Atelier 6 Bewegungsatelier, , 
END:VEVENT
BEGIN:VEVENT
DTSTAMP:20260419T163714
DTSTART;TZID=Europe/Berlin:20251218T143000
DTEND;TZID=Europe/Berlin:20251218T153000
UID:252821431-20251218T143000@VHSOFFENBURG
SUMMARY:Kinder-Tanz 4 - 6 Jahre (252821431) 
LOCATION:Offenburg Kunstschule Atelier 6 Bewegungsatelier, , 
END:VEVENT
BEGIN:VEVENT
DTSTAMP:20260419T163714
DTSTART;TZID=Europe/Berlin:20260108T143000
DTEND;TZID=Europe/Berlin:20260108T153000
UID:252821431-20260108T143000@VHSOFFENBURG
SUMMARY:Kinder-Tanz 4 - 6 Jahre (252821431) 
LOCATION:Offenburg Kunstschule Atelier 6 Bewegungsatelier, , 
END:VEVENT
BEGIN:VEVENT
DTSTAMP:20260419T163714
DTSTART;TZID=Europe/Berlin:20260115T143000
DTEND;TZID=Europe/Berlin:20260115T153000
UID:252821431-20260115T143000@VHSOFFENBURG
SUMMARY:Kinder-Tanz 4 - 6 Jahre (252821431) 
LOCATION:Offenburg Kunstschule Atelier 6 Bewegungsatelier, , 
END:VEVENT
BEGIN:VEVENT
DTSTAMP:20260419T163714
DTSTART;TZID=Europe/Berlin:20260122T143000
DTEND;TZID=Europe/Berlin:20260122T153000
UID:252821431-20260122T143000@VHSOFFENBURG
SUMMARY:Kinder-Tanz 4 - 6 Jahre (252821431) 
LOCATION:Offenburg Kunstschule Atelier 6 Bewegungsatelier, , 
END:VEVENT
BEGIN:VEVENT
DTSTAMP:20260419T163714
DTSTART;TZID=Europe/Berlin:20260129T143000
DTEND;TZID=Europe/Berlin:20260129T153000
UID:252821431-20260129T143000@VHSOFFENBURG
SUMMARY:Kinder-Tanz 4 - 6 Jahre (252821431) 
LOCATION:Offenburg Kunstschule Atelier 6 Bewegungsatelier, , 
END:VEVENT
BEGIN:VEVENT
DTSTAMP:20260419T163714
DTSTART;TZID=Europe/Berlin:20260205T143000
DTEND;TZID=Europe/Berlin:20260205T153000
UID:252821431-20260205T143000@VHSOFFENBURG
SUMMARY:Kinder-Tanz 4 - 6 Jahre (252821431) 
LOCATION:Offenburg Kunstschule Atelier 6 Bewegungsatelier, , 
END:VEVENT
BEGIN:VEVENT
DTSTAMP:20260419T163714
DTSTART;TZID=Europe/Berlin:20260219T143000
DTEND;TZID=Europe/Berlin:20260219T153000
UID:252821431-20260219T143000@VHSOFFENBURG
SUMMARY:Kinder-Tanz 4 - 6 Jahre (252821431) 
LOCATION:Offenburg Kunstschule Atelier 6 Bewegungsatelier, , 
END:VEVENT
BEGIN:VEVENT
DTSTAMP:20260419T163714
DTSTART;TZID=Europe/Berlin:20260226T143000
DTEND;TZID=Europe/Berlin:20260226T153000
UID:252821431-20260226T143000@VHSOFFENBURG
SUMMARY:Kinder-Tanz 4 - 6 Jahre (252821431) 
LOCATION:Offenburg Kunstschule Atelier 6 Bewegungsatelier, , 
END:VEVENT
BEGIN:VEVENT
DTSTAMP:20260419T163714
DTSTART;TZID=Europe/Berlin:20260305T143000
DTEND;TZID=Europe/Berlin:20260305T153000
UID:252821431-20260305T143000@VHSOFFENBURG
SUMMARY:Kinder-Tanz 4 - 6 Jahre (252821431) 
LOCATION:Offenburg Kunstschule Atelier 6 Bewegungsatelier, , 
END:VEVENT
BEGIN:VEVENT
DTSTAMP:20260419T163714
DTSTART;TZID=Europe/Berlin:20260312T143000
DTEND;TZID=Europe/Berlin:20260312T153000
UID:252821431-20260312T143000@VHSOFFENBURG
SUMMARY:Kinder-Tanz 4 - 6 Jahre (252821431) 
LOCATION:Offenburg Kunstschule Atelier 6 Bewegungsatelier, , 
END:VEVENT
BEGIN:VEVENT
DTSTAMP:20260419T163714
DTSTART;TZID=Europe/Berlin:20260319T143000
DTEND;TZID=Europe/Berlin:20260319T153000
UID:252821431-20260319T143000@VHSOFFENBURG
SUMMARY:Kinder-Tanz 4 - 6 Jahre (252821431) 
LOCATION:Offenburg Kunstschule Atelier 6 Bewegungsatelier, , 
END:VEVENT
BEGIN:VEVENT
DTSTAMP:20260419T163714
DTSTART;TZID=Europe/Berlin:20260326T143000
DTEND;TZID=Europe/Berlin:20260326T153000
UID:252821431-20260326T143000@VHSOFFENBURG
SUMMARY:Kinder-Tanz 4 - 6 Jahre (252821431) 
LOCATION:Offenburg Kunstschule Atelier 6 Bewegungsatelier, , 
END:VEVENT
BEGIN:VEVENT
DTSTAMP:20260419T163714
DTSTART;TZID=Europe/Berlin:20260416T143000
DTEND;TZID=Europe/Berlin:20260416T153000
UID:252821431-20260416T143000@VHSOFFENBURG
SUMMARY:Kinder-Tanz 4 - 6 Jahre (252821431) 
LOCATION:Offenburg Kunstschule Atelier 6 Bewegungsatelier, , 
END:VEVENT
BEGIN:VEVENT
DTSTAMP:20260419T163714
DTSTART;TZID=Europe/Berlin:20260423T143000
DTEND;TZID=Europe/Berlin:20260423T153000
UID:252821431-20260423T143000@VHSOFFENBURG
SUMMARY:Kinder-Tanz 4 - 6 Jahre (252821431) 
LOCATION:Offenburg Kunstschule Atelier 6 Bewegungsatelier, , 
END:VEVENT
BEGIN:VEVENT
DTSTAMP:20260419T163714
DTSTART;TZID=Europe/Berlin:20260430T143000
DTEND;TZID=Europe/Berlin:20260430T153000
UID:252821431-20260430T143000@VHSOFFENBURG
SUMMARY:Kinder-Tanz 4 - 6 Jahre (252821431) 
LOCATION:Offenburg Kunstschule Atelier 6 Bewegungsatelier, , 
END:VEVENT
BEGIN:VEVENT
DTSTAMP:20260419T163714
DTSTART;TZID=Europe/Berlin:20260507T143000
DTEND;TZID=Europe/Berlin:20260507T153000
UID:252821431-20260507T143000@VHSOFFENBURG
DESCRIPTION:Vertretung
SUMMARY:Kinder-Tanz 4 - 6 Jahre (252821431) 
LOCATION:Offenburg Kunstschule Atelier 6 Bewegungsatelier, , 
END:VEVENT
BEGIN:VEVENT
DTSTAMP:20260419T163714
DTSTART;TZID=Europe/Berlin:20260521T143000
DTEND;TZID=Europe/Berlin:20260521T153000
UID:252821431-20260521T143000@VHSOFFENBURG
SUMMARY:Kinder-Tanz 4 - 6 Jahre (252821431) 
LOCATION:Offenburg Kunstschule Atelier 6 Bewegungsatelier, , 
END:VEVENT
BEGIN:VEVENT
DTSTAMP:20260419T163714
DTSTART;TZID=Europe/Berlin:20260611T143000
DTEND;TZID=Europe/Berlin:20260611T153000
UID:252821431-20260611T143000@VHSOFFENBURG
SUMMARY:Kinder-Tanz 4 - 6 Jahre (252821431) 
LOCATION:Offenburg Kunstschule Atelier 6 Bewegungsatelier, , 
END:VEVENT
BEGIN:VEVENT
DTSTAMP:20260419T163714
DTSTART;TZID=Europe/Berlin:20260618T143000
DTEND;TZID=Europe/Berlin:20260618T153000
UID:252821431-20260618T143000@VHSOFFENBURG
SUMMARY:Kinder-Tanz 4 - 6 Jahre (252821431) 
LOCATION:Offenburg Kunstschule Atelier 6 Bewegungsatelier, , 
END:VEVENT
BEGIN:VEVENT
DTSTAMP:20260419T163714
DTSTART;TZID=Europe/Berlin:20260625T143000
DTEND;TZID=Europe/Berlin:20260625T153000
UID:252821431-20260625T143000@VHSOFFENBURG
SUMMARY:Kinder-Tanz 4 - 6 Jahre (252821431) 
LOCATION:Offenburg Kunstschule Atelier 6 Bewegungsatelier, , 
END:VEVENT
BEGIN:VEVENT
DTSTAMP:20260419T163714
DTSTART;TZID=Europe/Berlin:20260702T143000
DTEND;TZID=Europe/Berlin:20260702T153000
UID:252821431-20260702T143000@VHSOFFENBURG
SUMMARY:Kinder-Tanz 4 - 6 Jahre (252821431) 
LOCATION:Offenburg Kunstschule Atelier 6 Bewegungsatelier, , 
END:VEVENT
BEGIN:VEVENT
DTSTAMP:20260419T163714
DTSTART;TZID=Europe/Berlin:20260709T143000
DTEND;TZID=Europe/Berlin:20260709T153000
UID:252821431-20260709T143000@VHSOFFENBURG
SUMMARY:Kinder-Tanz 4 - 6 Jahre (252821431) 
LOCATION:Offenburg Kunstschule Atelier 6 Bewegungsatelier, , 
END:VEVENT
BEGIN:VEVENT
DTSTAMP:20260419T163714
DTSTART;TZID=Europe/Berlin:20260716T143000
DTEND;TZID=Europe/Berlin:20260716T153000
UID:252821431-20260716T143000@VHSOFFENBURG
SUMMARY:Kinder-Tanz 4 - 6 Jahre (252821431) 
LOCATION:Offenburg Kunstschule Atelier 6 Bewegungsatelier, , 
END:VEVENT
BEGIN:VEVENT
DTSTAMP:20260419T163714
DTSTART;TZID=Europe/Berlin:20260723T143000
DTEND;TZID=Europe/Berlin:20260723T153000
UID:252821431-20260723T143000@VHSOFFENBURG
SUMMARY:Kinder-Tanz 4 - 6 Jahre (252821431) 
LOCATION:Offenburg Kunstschule Atelier 6 Bewegungsatelier, , 
END:VEVENT
END:VCALENDAR