BEGIN:VCALENDAR
PRODID:http://www.kufer.de/kuferweb / DE
VERSION:2.0
METHOD:PUBLISH
CALSCALE:GREGORIAN
X-WR-TIMEZONE:Europe/Berlin
BEGIN:VTIMEZONE
TZID:Europe/Berlin
X-LIC-LOCATION:Europe/Berlin
BEGIN:DAYLIGHT
TZOFFSETFROM:+0100
TZOFFSETTO:+0200
TZNAME:CEST
DTSTART;TZID=Europe/Berlin:19700329T020000
RRULE:FREQ=YEARLY;INTERVAL=1;BYDAY=-1SU;BYMONTH=3
END:DAYLIGHT
BEGIN:STANDARD
TZOFFSETFROM:+0200
TZOFFSETTO:+0100
TZNAME:CET
DTSTART;TZID=Europe/Berlin:19701025T030000
RRULE:FREQ=YEARLY;INTERVAL=1;BYDAY=-1SU;BYMONTH=10
END:STANDARD
END:VTIMEZONE
BEGIN:VEVENT
DTSTAMP:20260421T192853
DTSTART;TZID=Europe/Berlin:20260120T143000
DTEND;TZID=Europe/Berlin:20260120T160000
UID:252822299-20260120T143000@VHSOFFENBURG
SUMMARY:deutsch-französisches Kinderatelier am Dienstag 6 - 10 Jahre (252822299) 
LOCATION:Offenburg Kunstschule Atelier 3, , 
END:VEVENT
BEGIN:VEVENT
DTSTAMP:20260421T192853
DTSTART;TZID=Europe/Berlin:20260127T143000
DTEND;TZID=Europe/Berlin:20260127T160000
UID:252822299-20260127T143000@VHSOFFENBURG
SUMMARY:deutsch-französisches Kinderatelier am Dienstag 6 - 10 Jahre (252822299) 
LOCATION:Offenburg Kunstschule Atelier 3, , 
END:VEVENT
BEGIN:VEVENT
DTSTAMP:20260421T192853
DTSTART;TZID=Europe/Berlin:20260203T143000
DTEND;TZID=Europe/Berlin:20260203T160000
UID:252822299-20260203T143000@VHSOFFENBURG
SUMMARY:deutsch-französisches Kinderatelier am Dienstag 6 - 10 Jahre (252822299) 
LOCATION:Offenburg Kunstschule Atelier 3, , 
END:VEVENT
BEGIN:VEVENT
DTSTAMP:20260421T192853
DTSTART;TZID=Europe/Berlin:20260210T143000
DTEND;TZID=Europe/Berlin:20260210T160000
UID:252822299-20260210T143000@VHSOFFENBURG
SUMMARY:deutsch-französisches Kinderatelier am Dienstag 6 - 10 Jahre (252822299) 
LOCATION:Offenburg Kunstschule Atelier 3, , 
END:VEVENT
BEGIN:VEVENT
DTSTAMP:20260421T192853
DTSTART;TZID=Europe/Berlin:20260224T143000
DTEND;TZID=Europe/Berlin:20260224T160000
UID:252822299-20260224T143000@VHSOFFENBURG
DESCRIPTION:Vertretung
SUMMARY:deutsch-französisches Kinderatelier am Dienstag 6 - 10 Jahre (252822299) 
LOCATION:Offenburg Kunstschule Atelier 3, , 
END:VEVENT
BEGIN:VEVENT
DTSTAMP:20260421T192853
DTSTART;TZID=Europe/Berlin:20260303T143000
DTEND;TZID=Europe/Berlin:20260303T160000
UID:252822299-20260303T143000@VHSOFFENBURG
DESCRIPTION:Vertretung
SUMMARY:deutsch-französisches Kinderatelier am Dienstag 6 - 10 Jahre (252822299) 
LOCATION:Offenburg Kunstschule Atelier 3, , 
END:VEVENT
BEGIN:VEVENT
DTSTAMP:20260421T192853
DTSTART;TZID=Europe/Berlin:20260310T143000
DTEND;TZID=Europe/Berlin:20260310T160000
UID:252822299-20260310T143000@VHSOFFENBURG
SUMMARY:deutsch-französisches Kinderatelier am Dienstag 6 - 10 Jahre (252822299) 
LOCATION:Offenburg Kunstschule Atelier 3, , 
END:VEVENT
BEGIN:VEVENT
DTSTAMP:20260421T192853
DTSTART;TZID=Europe/Berlin:20260317T143000
DTEND;TZID=Europe/Berlin:20260317T160000
UID:252822299-20260317T143000@VHSOFFENBURG
SUMMARY:deutsch-französisches Kinderatelier am Dienstag 6 - 10 Jahre (252822299) 
LOCATION:Offenburg Kunstschule Atelier 3, , 
END:VEVENT
BEGIN:VEVENT
DTSTAMP:20260421T192853
DTSTART;TZID=Europe/Berlin:20260324T143000
DTEND;TZID=Europe/Berlin:20260324T160000
UID:252822299-20260324T143000@VHSOFFENBURG
SUMMARY:deutsch-französisches Kinderatelier am Dienstag 6 - 10 Jahre (252822299) 
LOCATION:Offenburg Kunstschule Atelier 3, , 
END:VEVENT
BEGIN:VEVENT
DTSTAMP:20260421T192853
DTSTART;TZID=Europe/Berlin:20260414T143000
DTEND;TZID=Europe/Berlin:20260414T160000
UID:252822299-20260414T143000@VHSOFFENBURG
DESCRIPTION:Vertretung
SUMMARY:deutsch-französisches Kinderatelier am Dienstag 6 - 10 Jahre (252822299) 
LOCATION:Offenburg Kunstschule Atelier 3, , 
END:VEVENT
BEGIN:VEVENT
DTSTAMP:20260421T192853
DTSTART;TZID=Europe/Berlin:20260421T143000
DTEND;TZID=Europe/Berlin:20260421T160000
UID:252822299-20260421T143000@VHSOFFENBURG
SUMMARY:deutsch-französisches Kinderatelier am Dienstag 6 - 10 Jahre (252822299) 
LOCATION:Offenburg Kunstschule Atelier 3, , 
END:VEVENT
BEGIN:VEVENT
DTSTAMP:20260421T192853
DTSTART;TZID=Europe/Berlin:20260428T143000
DTEND;TZID=Europe/Berlin:20260428T160000
UID:252822299-20260428T143000@VHSOFFENBURG
SUMMARY:deutsch-französisches Kinderatelier am Dienstag 6 - 10 Jahre (252822299) 
LOCATION:Offenburg Kunstschule Atelier 3, , 
END:VEVENT
BEGIN:VEVENT
DTSTAMP:20260421T192853
DTSTART;TZID=Europe/Berlin:20260505T143000
DTEND;TZID=Europe/Berlin:20260505T160000
UID:252822299-20260505T143000@VHSOFFENBURG
SUMMARY:deutsch-französisches Kinderatelier am Dienstag 6 - 10 Jahre (252822299) 
LOCATION:Offenburg Kunstschule Atelier 3, , 
END:VEVENT
BEGIN:VEVENT
DTSTAMP:20260421T192853
DTSTART;TZID=Europe/Berlin:20260512T143000
DTEND;TZID=Europe/Berlin:20260512T160000
UID:252822299-20260512T143000@VHSOFFENBURG
SUMMARY:deutsch-französisches Kinderatelier am Dienstag 6 - 10 Jahre (252822299) 
LOCATION:Offenburg Kunstschule Atelier 3, , 
END:VEVENT
BEGIN:VEVENT
DTSTAMP:20260421T192853
DTSTART;TZID=Europe/Berlin:20260519T143000
DTEND;TZID=Europe/Berlin:20260519T160000
UID:252822299-20260519T143000@VHSOFFENBURG
SUMMARY:deutsch-französisches Kinderatelier am Dienstag 6 - 10 Jahre (252822299) 
LOCATION:Offenburg Kunstschule Atelier 3, , 
END:VEVENT
BEGIN:VEVENT
DTSTAMP:20260421T192853
DTSTART;TZID=Europe/Berlin:20260609T143000
DTEND;TZID=Europe/Berlin:20260609T160000
UID:252822299-20260609T143000@VHSOFFENBURG
SUMMARY:deutsch-französisches Kinderatelier am Dienstag 6 - 10 Jahre (252822299) 
LOCATION:Offenburg Kunstschule Atelier 3, , 
END:VEVENT
BEGIN:VEVENT
DTSTAMP:20260421T192853
DTSTART;TZID=Europe/Berlin:20260616T143000
DTEND;TZID=Europe/Berlin:20260616T160000
UID:252822299-20260616T143000@VHSOFFENBURG
DESCRIPTION:Vertretung
SUMMARY:deutsch-französisches Kinderatelier am Dienstag 6 - 10 Jahre (252822299) 
LOCATION:Offenburg Kunstschule Atelier 3, , 
END:VEVENT
BEGIN:VEVENT
DTSTAMP:20260421T192853
DTSTART;TZID=Europe/Berlin:20260623T143000
DTEND;TZID=Europe/Berlin:20260623T160000
UID:252822299-20260623T143000@VHSOFFENBURG
SUMMARY:deutsch-französisches Kinderatelier am Dienstag 6 - 10 Jahre (252822299) 
LOCATION:Offenburg Kunstschule Atelier 3, , 
END:VEVENT
BEGIN:VEVENT
DTSTAMP:20260421T192853
DTSTART;TZID=Europe/Berlin:20260630T143000
DTEND;TZID=Europe/Berlin:20260630T160000
UID:252822299-20260630T143000@VHSOFFENBURG
SUMMARY:deutsch-französisches Kinderatelier am Dienstag 6 - 10 Jahre (252822299) 
LOCATION:Offenburg Kunstschule Atelier 3, , 
END:VEVENT
BEGIN:VEVENT
DTSTAMP:20260421T192853
DTSTART;TZID=Europe/Berlin:20260707T143000
DTEND;TZID=Europe/Berlin:20260707T160000
UID:252822299-20260707T143000@VHSOFFENBURG
SUMMARY:deutsch-französisches Kinderatelier am Dienstag 6 - 10 Jahre (252822299) 
LOCATION:Offenburg Kunstschule Atelier 3, , 
END:VEVENT
BEGIN:VEVENT
DTSTAMP:20260421T192853
DTSTART;TZID=Europe/Berlin:20260714T143000
DTEND;TZID=Europe/Berlin:20260714T160000
UID:252822299-20260714T143000@VHSOFFENBURG
SUMMARY:deutsch-französisches Kinderatelier am Dienstag 6 - 10 Jahre (252822299) 
LOCATION:Offenburg Kunstschule Atelier 3, , 
END:VEVENT
BEGIN:VEVENT
DTSTAMP:20260421T192853
DTSTART;TZID=Europe/Berlin:20260721T143000
DTEND;TZID=Europe/Berlin:20260721T160000
UID:252822299-20260721T143000@VHSOFFENBURG
SUMMARY:deutsch-französisches Kinderatelier am Dienstag 6 - 10 Jahre (252822299) 
LOCATION:Offenburg Kunstschule Atelier 3, , 
END:VEVENT
END:VCALENDAR