BEGIN:VCALENDAR
PRODID:http://www.kufer.de/kuferweb / DE
VERSION:2.0
METHOD:PUBLISH
CALSCALE:GREGORIAN
X-WR-TIMEZONE:Europe/Berlin
BEGIN:VTIMEZONE
TZID:Europe/Berlin
X-LIC-LOCATION:Europe/Berlin
BEGIN:DAYLIGHT
TZOFFSETFROM:+0100
TZOFFSETTO:+0200
TZNAME:CEST
DTSTART;TZID=Europe/Berlin:19700329T020000
RRULE:FREQ=YEARLY;INTERVAL=1;BYDAY=-1SU;BYMONTH=3
END:DAYLIGHT
BEGIN:STANDARD
TZOFFSETFROM:+0200
TZOFFSETTO:+0100
TZNAME:CET
DTSTART;TZID=Europe/Berlin:19701025T030000
RRULE:FREQ=YEARLY;INTERVAL=1;BYDAY=-1SU;BYMONTH=10
END:STANDARD
END:VTIMEZONE
BEGIN:VEVENT
DTSTAMP:20260421T125605
DTSTART;TZID=Europe/Berlin:20260114T164500
DTEND;TZID=Europe/Berlin:20260114T181500
UID:252822311-20260114T164500@VHSOFFENBURG
SUMMARY:Bildhauerei und Malereiatelier 9 - 12 Jahre (252822311) 
LOCATION:Offenburg Kunstschule Atelier 8 Holzwerkstatt, , 
END:VEVENT
BEGIN:VEVENT
DTSTAMP:20260421T125605
DTSTART;TZID=Europe/Berlin:20260121T164500
DTEND;TZID=Europe/Berlin:20260121T181500
UID:252822311-20260121T164500@VHSOFFENBURG
SUMMARY:Bildhauerei und Malereiatelier 9 - 12 Jahre (252822311) 
LOCATION:Offenburg Kunstschule Atelier 8 Holzwerkstatt, , 
END:VEVENT
BEGIN:VEVENT
DTSTAMP:20260421T125605
DTSTART;TZID=Europe/Berlin:20260128T164500
DTEND;TZID=Europe/Berlin:20260128T181500
UID:252822311-20260128T164500@VHSOFFENBURG
SUMMARY:Bildhauerei und Malereiatelier 9 - 12 Jahre (252822311) 
LOCATION:Offenburg Kunstschule Atelier 8 Holzwerkstatt, , 
END:VEVENT
BEGIN:VEVENT
DTSTAMP:20260421T125605
DTSTART;TZID=Europe/Berlin:20260204T164500
DTEND;TZID=Europe/Berlin:20260204T181500
UID:252822311-20260204T164500@VHSOFFENBURG
SUMMARY:Bildhauerei und Malereiatelier 9 - 12 Jahre (252822311) 
LOCATION:Offenburg Kunstschule Atelier 8 Holzwerkstatt, , 
END:VEVENT
BEGIN:VEVENT
DTSTAMP:20260421T125605
DTSTART;TZID=Europe/Berlin:20260211T164500
DTEND;TZID=Europe/Berlin:20260211T181500
UID:252822311-20260211T164500@VHSOFFENBURG
SUMMARY:Bildhauerei und Malereiatelier 9 - 12 Jahre (252822311) 
LOCATION:Offenburg Kunstschule Atelier 8 Holzwerkstatt, , 
END:VEVENT
BEGIN:VEVENT
DTSTAMP:20260421T125605
DTSTART;TZID=Europe/Berlin:20260225T164500
DTEND;TZID=Europe/Berlin:20260225T181500
UID:252822311-20260225T164500@VHSOFFENBURG
SUMMARY:Bildhauerei und Malereiatelier 9 - 12 Jahre (252822311) 
LOCATION:Offenburg Kunstschule Atelier 8 Holzwerkstatt, , 
END:VEVENT
BEGIN:VEVENT
DTSTAMP:20260421T125605
DTSTART;TZID=Europe/Berlin:20260304T164500
DTEND;TZID=Europe/Berlin:20260304T181500
UID:252822311-20260304T164500@VHSOFFENBURG
SUMMARY:Bildhauerei und Malereiatelier 9 - 12 Jahre (252822311) 
LOCATION:Offenburg Kunstschule Atelier 8 Holzwerkstatt, , 
END:VEVENT
BEGIN:VEVENT
DTSTAMP:20260421T125605
DTSTART;TZID=Europe/Berlin:20260311T164500
DTEND;TZID=Europe/Berlin:20260311T181500
UID:252822311-20260311T164500@VHSOFFENBURG
SUMMARY:Bildhauerei und Malereiatelier 9 - 12 Jahre (252822311) 
LOCATION:Offenburg Kunstschule Atelier 8 Holzwerkstatt, , 
END:VEVENT
BEGIN:VEVENT
DTSTAMP:20260421T125605
DTSTART;TZID=Europe/Berlin:20260318T164500
DTEND;TZID=Europe/Berlin:20260318T181500
UID:252822311-20260318T164500@VHSOFFENBURG
SUMMARY:Bildhauerei und Malereiatelier 9 - 12 Jahre (252822311) 
LOCATION:Offenburg Kunstschule Atelier 8 Holzwerkstatt, , 
END:VEVENT
BEGIN:VEVENT
DTSTAMP:20260421T125605
DTSTART;TZID=Europe/Berlin:20260325T164500
DTEND;TZID=Europe/Berlin:20260325T181500
UID:252822311-20260325T164500@VHSOFFENBURG
SUMMARY:Bildhauerei und Malereiatelier 9 - 12 Jahre (252822311) 
LOCATION:Offenburg Kunstschule Atelier 8 Holzwerkstatt, , 
END:VEVENT
BEGIN:VEVENT
DTSTAMP:20260421T125605
DTSTART;TZID=Europe/Berlin:20260415T164500
DTEND;TZID=Europe/Berlin:20260415T181500
UID:252822311-20260415T164500@VHSOFFENBURG
SUMMARY:Bildhauerei und Malereiatelier 9 - 12 Jahre (252822311) 
LOCATION:Offenburg Kunstschule Atelier 8 Holzwerkstatt, , 
END:VEVENT
BEGIN:VEVENT
DTSTAMP:20260421T125605
DTSTART;TZID=Europe/Berlin:20260422T164500
DTEND;TZID=Europe/Berlin:20260422T181500
UID:252822311-20260422T164500@VHSOFFENBURG
SUMMARY:Bildhauerei und Malereiatelier 9 - 12 Jahre (252822311) 
LOCATION:Offenburg Kunstschule Atelier 8 Holzwerkstatt, , 
END:VEVENT
BEGIN:VEVENT
DTSTAMP:20260421T125605
DTSTART;TZID=Europe/Berlin:20260429T164500
DTEND;TZID=Europe/Berlin:20260429T181500
UID:252822311-20260429T164500@VHSOFFENBURG
SUMMARY:Bildhauerei und Malereiatelier 9 - 12 Jahre (252822311) 
LOCATION:Offenburg Kunstschule Atelier 8 Holzwerkstatt, , 
END:VEVENT
BEGIN:VEVENT
DTSTAMP:20260421T125605
DTSTART;TZID=Europe/Berlin:20260506T164500
DTEND;TZID=Europe/Berlin:20260506T181500
UID:252822311-20260506T164500@VHSOFFENBURG
SUMMARY:Bildhauerei und Malereiatelier 9 - 12 Jahre (252822311) 
LOCATION:Offenburg Kunstschule Atelier 8 Holzwerkstatt, , 
END:VEVENT
BEGIN:VEVENT
DTSTAMP:20260421T125605
DTSTART;TZID=Europe/Berlin:20260513T164500
DTEND;TZID=Europe/Berlin:20260513T181500
UID:252822311-20260513T164500@VHSOFFENBURG
SUMMARY:Bildhauerei und Malereiatelier 9 - 12 Jahre (252822311) 
LOCATION:Offenburg Kunstschule Atelier 8 Holzwerkstatt, , 
END:VEVENT
BEGIN:VEVENT
DTSTAMP:20260421T125605
DTSTART;TZID=Europe/Berlin:20260520T164500
DTEND;TZID=Europe/Berlin:20260520T181500
UID:252822311-20260520T164500@VHSOFFENBURG
SUMMARY:Bildhauerei und Malereiatelier 9 - 12 Jahre (252822311) 
LOCATION:Offenburg Kunstschule Atelier 8 Holzwerkstatt, , 
END:VEVENT
BEGIN:VEVENT
DTSTAMP:20260421T125605
DTSTART;TZID=Europe/Berlin:20260610T164500
DTEND;TZID=Europe/Berlin:20260610T181500
UID:252822311-20260610T164500@VHSOFFENBURG
SUMMARY:Bildhauerei und Malereiatelier 9 - 12 Jahre (252822311) 
LOCATION:Offenburg Kunstschule Atelier 8 Holzwerkstatt, , 
END:VEVENT
BEGIN:VEVENT
DTSTAMP:20260421T125605
DTSTART;TZID=Europe/Berlin:20260617T164500
DTEND;TZID=Europe/Berlin:20260617T181500
UID:252822311-20260617T164500@VHSOFFENBURG
SUMMARY:Bildhauerei und Malereiatelier 9 - 12 Jahre (252822311) 
LOCATION:Offenburg Kunstschule Atelier 8 Holzwerkstatt, , 
END:VEVENT
BEGIN:VEVENT
DTSTAMP:20260421T125605
DTSTART;TZID=Europe/Berlin:20260624T164500
DTEND;TZID=Europe/Berlin:20260624T181500
UID:252822311-20260624T164500@VHSOFFENBURG
SUMMARY:Bildhauerei und Malereiatelier 9 - 12 Jahre (252822311) 
LOCATION:Offenburg Kunstschule Atelier 8 Holzwerkstatt, , 
END:VEVENT
BEGIN:VEVENT
DTSTAMP:20260421T125605
DTSTART;TZID=Europe/Berlin:20260701T164500
DTEND;TZID=Europe/Berlin:20260701T181500
UID:252822311-20260701T164500@VHSOFFENBURG
SUMMARY:Bildhauerei und Malereiatelier 9 - 12 Jahre (252822311) 
LOCATION:Offenburg Kunstschule Atelier 8 Holzwerkstatt, , 
END:VEVENT
BEGIN:VEVENT
DTSTAMP:20260421T125605
DTSTART;TZID=Europe/Berlin:20260708T164500
DTEND;TZID=Europe/Berlin:20260708T181500
UID:252822311-20260708T164500@VHSOFFENBURG
SUMMARY:Bildhauerei und Malereiatelier 9 - 12 Jahre (252822311) 
LOCATION:Offenburg Kunstschule Atelier 8 Holzwerkstatt, , 
END:VEVENT
BEGIN:VEVENT
DTSTAMP:20260421T125605
DTSTART;TZID=Europe/Berlin:20260715T164500
DTEND;TZID=Europe/Berlin:20260715T181500
UID:252822311-20260715T164500@VHSOFFENBURG
SUMMARY:Bildhauerei und Malereiatelier 9 - 12 Jahre (252822311) 
LOCATION:Offenburg Kunstschule Atelier 8 Holzwerkstatt, , 
END:VEVENT
BEGIN:VEVENT
DTSTAMP:20260421T125605
DTSTART;TZID=Europe/Berlin:20260722T164500
DTEND;TZID=Europe/Berlin:20260722T181500
UID:252822311-20260722T164500@VHSOFFENBURG
SUMMARY:Bildhauerei und Malereiatelier 9 - 12 Jahre (252822311) 
LOCATION:Offenburg Kunstschule Atelier 8 Holzwerkstatt, , 
END:VEVENT
END:VCALENDAR