BEGIN:VCALENDAR
PRODID:http://www.kufer.de/kuferweb / DE
VERSION:2.0
METHOD:PUBLISH
CALSCALE:GREGORIAN
X-WR-TIMEZONE:Europe/Berlin
BEGIN:VTIMEZONE
TZID:Europe/Berlin
X-LIC-LOCATION:Europe/Berlin
BEGIN:DAYLIGHT
TZOFFSETFROM:+0100
TZOFFSETTO:+0200
TZNAME:CEST
DTSTART;TZID=Europe/Berlin:19700329T020000
RRULE:FREQ=YEARLY;INTERVAL=1;BYDAY=-1SU;BYMONTH=3
END:DAYLIGHT
BEGIN:STANDARD
TZOFFSETFROM:+0200
TZOFFSETTO:+0100
TZNAME:CET
DTSTART;TZID=Europe/Berlin:19701025T030000
RRULE:FREQ=YEARLY;INTERVAL=1;BYDAY=-1SU;BYMONTH=10
END:STANDARD
END:VTIMEZONE
BEGIN:VEVENT
DTSTAMP:20260419T163638
DTSTART;TZID=Europe/Berlin:20250918T163000
DTEND;TZID=Europe/Berlin:20250918T180000
UID:252822402-20250918T163000@VHSOFFENBURG
SUMMARY:Kinderatelier am Donnerstag 9 - 12 Jahre (252822402) 
LOCATION:Offenburg Kunstschule Atelier 1, , 
END:VEVENT
BEGIN:VEVENT
DTSTAMP:20260419T163638
DTSTART;TZID=Europe/Berlin:20250925T163000
DTEND;TZID=Europe/Berlin:20250925T180000
UID:252822402-20250925T163000@VHSOFFENBURG
SUMMARY:Kinderatelier am Donnerstag 9 - 12 Jahre (252822402) 
LOCATION:Offenburg Kunstschule Atelier 1, , 
END:VEVENT
BEGIN:VEVENT
DTSTAMP:20260419T163638
DTSTART;TZID=Europe/Berlin:20251002T163000
DTEND;TZID=Europe/Berlin:20251002T180000
UID:252822402-20251002T163000@VHSOFFENBURG
SUMMARY:Kinderatelier am Donnerstag 9 - 12 Jahre (252822402) 
LOCATION:Offenburg Kunstschule Atelier 1, , 
END:VEVENT
BEGIN:VEVENT
DTSTAMP:20260419T163638
DTSTART;TZID=Europe/Berlin:20251009T163000
DTEND;TZID=Europe/Berlin:20251009T180000
UID:252822402-20251009T163000@VHSOFFENBURG
SUMMARY:Kinderatelier am Donnerstag 9 - 12 Jahre (252822402) 
LOCATION:Offenburg Kunstschule Atelier 1, , 
END:VEVENT
BEGIN:VEVENT
DTSTAMP:20260419T163638
DTSTART;TZID=Europe/Berlin:20251016T163000
DTEND;TZID=Europe/Berlin:20251016T180000
UID:252822402-20251016T163000@VHSOFFENBURG
SUMMARY:Kinderatelier am Donnerstag 9 - 12 Jahre (252822402) 
LOCATION:Offenburg Kunstschule Atelier 1, , 
END:VEVENT
BEGIN:VEVENT
DTSTAMP:20260419T163638
DTSTART;TZID=Europe/Berlin:20251023T163000
DTEND;TZID=Europe/Berlin:20251023T180000
UID:252822402-20251023T163000@VHSOFFENBURG
SUMMARY:Kinderatelier am Donnerstag 9 - 12 Jahre (252822402) 
LOCATION:Offenburg Kunstschule Atelier 1, , 
END:VEVENT
BEGIN:VEVENT
DTSTAMP:20260419T163638
DTSTART;TZID=Europe/Berlin:20251106T163000
DTEND;TZID=Europe/Berlin:20251106T180000
UID:252822402-20251106T163000@VHSOFFENBURG
SUMMARY:Kinderatelier am Donnerstag 9 - 12 Jahre (252822402) 
LOCATION:Offenburg Kunstschule Atelier 1, , 
END:VEVENT
BEGIN:VEVENT
DTSTAMP:20260419T163638
DTSTART;TZID=Europe/Berlin:20251113T163000
DTEND;TZID=Europe/Berlin:20251113T180000
UID:252822402-20251113T163000@VHSOFFENBURG
SUMMARY:Kinderatelier am Donnerstag 9 - 12 Jahre (252822402) 
LOCATION:Offenburg Kunstschule Atelier 1, , 
END:VEVENT
BEGIN:VEVENT
DTSTAMP:20260419T163638
DTSTART;TZID=Europe/Berlin:20251120T163000
DTEND;TZID=Europe/Berlin:20251120T180000
UID:252822402-20251120T163000@VHSOFFENBURG
SUMMARY:Kinderatelier am Donnerstag 9 - 12 Jahre (252822402) 
LOCATION:Offenburg Kunstschule Atelier 1, , 
END:VEVENT
BEGIN:VEVENT
DTSTAMP:20260419T163638
DTSTART;TZID=Europe/Berlin:20251127T163000
DTEND;TZID=Europe/Berlin:20251127T180000
UID:252822402-20251127T163000@VHSOFFENBURG
SUMMARY:Kinderatelier am Donnerstag 9 - 12 Jahre (252822402) 
LOCATION:Offenburg Kunstschule Atelier 1, , 
END:VEVENT
BEGIN:VEVENT
DTSTAMP:20260419T163638
DTSTART;TZID=Europe/Berlin:20251204T163000
DTEND;TZID=Europe/Berlin:20251204T180000
UID:252822402-20251204T163000@VHSOFFENBURG
SUMMARY:Kinderatelier am Donnerstag 9 - 12 Jahre (252822402) 
LOCATION:Offenburg Kunstschule Atelier 1, , 
END:VEVENT
BEGIN:VEVENT
DTSTAMP:20260419T163638
DTSTART;TZID=Europe/Berlin:20251211T163000
DTEND;TZID=Europe/Berlin:20251211T180000
UID:252822402-20251211T163000@VHSOFFENBURG
SUMMARY:Kinderatelier am Donnerstag 9 - 12 Jahre (252822402) 
LOCATION:Offenburg Kunstschule Atelier 1, , 
END:VEVENT
BEGIN:VEVENT
DTSTAMP:20260419T163638
DTSTART;TZID=Europe/Berlin:20251218T163000
DTEND;TZID=Europe/Berlin:20251218T180000
UID:252822402-20251218T163000@VHSOFFENBURG
SUMMARY:Kinderatelier am Donnerstag 9 - 12 Jahre (252822402) 
LOCATION:Offenburg Kunstschule Atelier 1, , 
END:VEVENT
BEGIN:VEVENT
DTSTAMP:20260419T163638
DTSTART;TZID=Europe/Berlin:20260108T163000
DTEND;TZID=Europe/Berlin:20260108T180000
UID:252822402-20260108T163000@VHSOFFENBURG
SUMMARY:Kinderatelier am Donnerstag 9 - 12 Jahre (252822402) 
LOCATION:Offenburg Kunstschule Atelier 1, , 
END:VEVENT
BEGIN:VEVENT
DTSTAMP:20260419T163638
DTSTART;TZID=Europe/Berlin:20260115T163000
DTEND;TZID=Europe/Berlin:20260115T180000
UID:252822402-20260115T163000@VHSOFFENBURG
SUMMARY:Kinderatelier am Donnerstag 9 - 12 Jahre (252822402) 
LOCATION:Offenburg Kunstschule Atelier 1, , 
END:VEVENT
BEGIN:VEVENT
DTSTAMP:20260419T163638
DTSTART;TZID=Europe/Berlin:20260122T163000
DTEND;TZID=Europe/Berlin:20260122T180000
UID:252822402-20260122T163000@VHSOFFENBURG
SUMMARY:Kinderatelier am Donnerstag 9 - 12 Jahre (252822402) 
LOCATION:Offenburg Kunstschule Atelier 1, , 
END:VEVENT
BEGIN:VEVENT
DTSTAMP:20260419T163638
DTSTART;TZID=Europe/Berlin:20260129T163000
DTEND;TZID=Europe/Berlin:20260129T180000
UID:252822402-20260129T163000@VHSOFFENBURG
SUMMARY:Kinderatelier am Donnerstag 9 - 12 Jahre (252822402) 
LOCATION:Offenburg Kunstschule Atelier 1, , 
END:VEVENT
BEGIN:VEVENT
DTSTAMP:20260419T163638
DTSTART;TZID=Europe/Berlin:20260205T163000
DTEND;TZID=Europe/Berlin:20260205T180000
UID:252822402-20260205T163000@VHSOFFENBURG
SUMMARY:Kinderatelier am Donnerstag 9 - 12 Jahre (252822402) 
LOCATION:Offenburg Kunstschule Atelier 1, , 
END:VEVENT
BEGIN:VEVENT
DTSTAMP:20260419T163638
DTSTART;TZID=Europe/Berlin:20260219T163000
DTEND;TZID=Europe/Berlin:20260219T180000
UID:252822402-20260219T163000@VHSOFFENBURG
SUMMARY:Kinderatelier am Donnerstag 9 - 12 Jahre (252822402) 
LOCATION:Offenburg Kunstschule Atelier 1, , 
END:VEVENT
BEGIN:VEVENT
DTSTAMP:20260419T163638
DTSTART;TZID=Europe/Berlin:20260226T163000
DTEND;TZID=Europe/Berlin:20260226T180000
UID:252822402-20260226T163000@VHSOFFENBURG
SUMMARY:Kinderatelier am Donnerstag 9 - 12 Jahre (252822402) 
LOCATION:Offenburg Kunstschule Atelier 1, , 
END:VEVENT
BEGIN:VEVENT
DTSTAMP:20260419T163638
DTSTART;TZID=Europe/Berlin:20260305T163000
DTEND;TZID=Europe/Berlin:20260305T180000
UID:252822402-20260305T163000@VHSOFFENBURG
SUMMARY:Kinderatelier am Donnerstag 9 - 12 Jahre (252822402) 
LOCATION:Offenburg Kunstschule Atelier 1, , 
END:VEVENT
BEGIN:VEVENT
DTSTAMP:20260419T163638
DTSTART;TZID=Europe/Berlin:20260312T163000
DTEND;TZID=Europe/Berlin:20260312T180000
UID:252822402-20260312T163000@VHSOFFENBURG
SUMMARY:Kinderatelier am Donnerstag 9 - 12 Jahre (252822402) 
LOCATION:Offenburg Kunstschule Atelier 1, , 
END:VEVENT
BEGIN:VEVENT
DTSTAMP:20260419T163638
DTSTART;TZID=Europe/Berlin:20260319T163000
DTEND;TZID=Europe/Berlin:20260319T180000
UID:252822402-20260319T163000@VHSOFFENBURG
SUMMARY:Kinderatelier am Donnerstag 9 - 12 Jahre (252822402) 
LOCATION:Offenburg Kunstschule Atelier 1, , 
END:VEVENT
BEGIN:VEVENT
DTSTAMP:20260419T163638
DTSTART;TZID=Europe/Berlin:20260326T163000
DTEND;TZID=Europe/Berlin:20260326T180000
UID:252822402-20260326T163000@VHSOFFENBURG
SUMMARY:Kinderatelier am Donnerstag 9 - 12 Jahre (252822402) 
LOCATION:Offenburg Kunstschule Atelier 1, , 
END:VEVENT
BEGIN:VEVENT
DTSTAMP:20260419T163638
DTSTART;TZID=Europe/Berlin:20260416T163000
DTEND;TZID=Europe/Berlin:20260416T180000
UID:252822402-20260416T163000@VHSOFFENBURG
SUMMARY:Kinderatelier am Donnerstag 9 - 12 Jahre (252822402) 
LOCATION:Offenburg Kunstschule Atelier 1, , 
END:VEVENT
BEGIN:VEVENT
DTSTAMP:20260419T163638
DTSTART;TZID=Europe/Berlin:20260423T163000
DTEND;TZID=Europe/Berlin:20260423T180000
UID:252822402-20260423T163000@VHSOFFENBURG
SUMMARY:Kinderatelier am Donnerstag 9 - 12 Jahre (252822402) 
LOCATION:Offenburg Kunstschule Atelier 1, , 
END:VEVENT
BEGIN:VEVENT
DTSTAMP:20260419T163638
DTSTART;TZID=Europe/Berlin:20260430T163000
DTEND;TZID=Europe/Berlin:20260430T180000
UID:252822402-20260430T163000@VHSOFFENBURG
SUMMARY:Kinderatelier am Donnerstag 9 - 12 Jahre (252822402) 
LOCATION:Offenburg Kunstschule Atelier 1, , 
END:VEVENT
BEGIN:VEVENT
DTSTAMP:20260419T163638
DTSTART;TZID=Europe/Berlin:20260507T163000
DTEND;TZID=Europe/Berlin:20260507T180000
UID:252822402-20260507T163000@VHSOFFENBURG
SUMMARY:Kinderatelier am Donnerstag 9 - 12 Jahre (252822402) 
LOCATION:Offenburg Kunstschule Atelier 1, , 
END:VEVENT
BEGIN:VEVENT
DTSTAMP:20260419T163638
DTSTART;TZID=Europe/Berlin:20260521T163000
DTEND;TZID=Europe/Berlin:20260521T180000
UID:252822402-20260521T163000@VHSOFFENBURG
SUMMARY:Kinderatelier am Donnerstag 9 - 12 Jahre (252822402) 
LOCATION:Offenburg Kunstschule Atelier 1, , 
END:VEVENT
BEGIN:VEVENT
DTSTAMP:20260419T163638
DTSTART;TZID=Europe/Berlin:20260611T163000
DTEND;TZID=Europe/Berlin:20260611T180000
UID:252822402-20260611T163000@VHSOFFENBURG
SUMMARY:Kinderatelier am Donnerstag 9 - 12 Jahre (252822402) 
LOCATION:Offenburg Kunstschule Atelier 1, , 
END:VEVENT
BEGIN:VEVENT
DTSTAMP:20260419T163638
DTSTART;TZID=Europe/Berlin:20260618T163000
DTEND;TZID=Europe/Berlin:20260618T180000
UID:252822402-20260618T163000@VHSOFFENBURG
SUMMARY:Kinderatelier am Donnerstag 9 - 12 Jahre (252822402) 
LOCATION:Offenburg Kunstschule Atelier 1, , 
END:VEVENT
BEGIN:VEVENT
DTSTAMP:20260419T163638
DTSTART;TZID=Europe/Berlin:20260625T163000
DTEND;TZID=Europe/Berlin:20260625T180000
UID:252822402-20260625T163000@VHSOFFENBURG
SUMMARY:Kinderatelier am Donnerstag 9 - 12 Jahre (252822402) 
LOCATION:Offenburg Kunstschule Atelier 1, , 
END:VEVENT
BEGIN:VEVENT
DTSTAMP:20260419T163638
DTSTART;TZID=Europe/Berlin:20260702T163000
DTEND;TZID=Europe/Berlin:20260702T180000
UID:252822402-20260702T163000@VHSOFFENBURG
SUMMARY:Kinderatelier am Donnerstag 9 - 12 Jahre (252822402) 
LOCATION:Offenburg Kunstschule Atelier 1, , 
END:VEVENT
BEGIN:VEVENT
DTSTAMP:20260419T163638
DTSTART;TZID=Europe/Berlin:20260709T163000
DTEND;TZID=Europe/Berlin:20260709T180000
UID:252822402-20260709T163000@VHSOFFENBURG
SUMMARY:Kinderatelier am Donnerstag 9 - 12 Jahre (252822402) 
LOCATION:Offenburg Kunstschule Atelier 1, , 
END:VEVENT
BEGIN:VEVENT
DTSTAMP:20260419T163638
DTSTART;TZID=Europe/Berlin:20260716T163000
DTEND;TZID=Europe/Berlin:20260716T180000
UID:252822402-20260716T163000@VHSOFFENBURG
SUMMARY:Kinderatelier am Donnerstag 9 - 12 Jahre (252822402) 
LOCATION:Offenburg Kunstschule Atelier 1, , 
END:VEVENT
BEGIN:VEVENT
DTSTAMP:20260419T163638
DTSTART;TZID=Europe/Berlin:20260723T163000
DTEND;TZID=Europe/Berlin:20260723T180000
UID:252822402-20260723T163000@VHSOFFENBURG
SUMMARY:Kinderatelier am Donnerstag 9 - 12 Jahre (252822402) 
LOCATION:Offenburg Kunstschule Atelier 1, , 
END:VEVENT
END:VCALENDAR