BEGIN:VCALENDAR
PRODID:http://www.kufer.de/kuferweb / DE
VERSION:2.0
METHOD:PUBLISH
CALSCALE:GREGORIAN
X-WR-TIMEZONE:Europe/Berlin
BEGIN:VTIMEZONE
TZID:Europe/Berlin
X-LIC-LOCATION:Europe/Berlin
BEGIN:DAYLIGHT
TZOFFSETFROM:+0100
TZOFFSETTO:+0200
TZNAME:CEST
DTSTART;TZID=Europe/Berlin:19700329T020000
RRULE:FREQ=YEARLY;INTERVAL=1;BYDAY=-1SU;BYMONTH=3
END:DAYLIGHT
BEGIN:STANDARD
TZOFFSETFROM:+0200
TZOFFSETTO:+0100
TZNAME:CET
DTSTART;TZID=Europe/Berlin:19701025T030000
RRULE:FREQ=YEARLY;INTERVAL=1;BYDAY=-1SU;BYMONTH=10
END:STANDARD
END:VTIMEZONE
BEGIN:VEVENT
DTSTAMP:20260419T163554
DTSTART;TZID=Europe/Berlin:20250918T153000
DTEND;TZID=Europe/Berlin:20250918T163000
UID:252822432-20250918T153000@VHSOFFENBURG
SUMMARY:Kinder-Tanz 7 -12 Jahre (252822432) 
LOCATION:Offenburg Kunstschule Atelier 6 Bewegungsatelier, , 
END:VEVENT
BEGIN:VEVENT
DTSTAMP:20260419T163554
DTSTART;TZID=Europe/Berlin:20250925T153000
DTEND;TZID=Europe/Berlin:20250925T163000
UID:252822432-20250925T153000@VHSOFFENBURG
SUMMARY:Kinder-Tanz 7 -12 Jahre (252822432) 
LOCATION:Offenburg Kunstschule Atelier 6 Bewegungsatelier, , 
END:VEVENT
BEGIN:VEVENT
DTSTAMP:20260419T163554
DTSTART;TZID=Europe/Berlin:20251002T153000
DTEND;TZID=Europe/Berlin:20251002T163000
UID:252822432-20251002T153000@VHSOFFENBURG
SUMMARY:Kinder-Tanz 7 -12 Jahre (252822432) 
LOCATION:Offenburg Kunstschule Atelier 6 Bewegungsatelier, , 
END:VEVENT
BEGIN:VEVENT
DTSTAMP:20260419T163554
DTSTART;TZID=Europe/Berlin:20251009T153000
DTEND;TZID=Europe/Berlin:20251009T163000
UID:252822432-20251009T153000@VHSOFFENBURG
SUMMARY:Kinder-Tanz 7 -12 Jahre (252822432) 
LOCATION:Offenburg Kunstschule Atelier 6 Bewegungsatelier, , 
END:VEVENT
BEGIN:VEVENT
DTSTAMP:20260419T163554
DTSTART;TZID=Europe/Berlin:20251016T153000
DTEND;TZID=Europe/Berlin:20251016T163000
UID:252822432-20251016T153000@VHSOFFENBURG
SUMMARY:Kinder-Tanz 7 -12 Jahre (252822432) 
LOCATION:Offenburg Kunstschule Atelier 6 Bewegungsatelier, , 
END:VEVENT
BEGIN:VEVENT
DTSTAMP:20260419T163554
DTSTART;TZID=Europe/Berlin:20251023T153000
DTEND;TZID=Europe/Berlin:20251023T163000
UID:252822432-20251023T153000@VHSOFFENBURG
SUMMARY:Kinder-Tanz 7 -12 Jahre (252822432) 
LOCATION:Offenburg Kunstschule Atelier 6 Bewegungsatelier, , 
END:VEVENT
BEGIN:VEVENT
DTSTAMP:20260419T163554
DTSTART;TZID=Europe/Berlin:20251106T153000
DTEND;TZID=Europe/Berlin:20251106T163000
UID:252822432-20251106T153000@VHSOFFENBURG
SUMMARY:Kinder-Tanz 7 -12 Jahre (252822432) 
LOCATION:Offenburg Kunstschule Atelier 6 Bewegungsatelier, , 
END:VEVENT
BEGIN:VEVENT
DTSTAMP:20260419T163554
DTSTART;TZID=Europe/Berlin:20251113T153000
DTEND;TZID=Europe/Berlin:20251113T163000
UID:252822432-20251113T153000@VHSOFFENBURG
SUMMARY:Kinder-Tanz 7 -12 Jahre (252822432) 
LOCATION:Offenburg Kunstschule Atelier 6 Bewegungsatelier, , 
END:VEVENT
BEGIN:VEVENT
DTSTAMP:20260419T163554
DTSTART;TZID=Europe/Berlin:20251120T153000
DTEND;TZID=Europe/Berlin:20251120T163000
UID:252822432-20251120T153000@VHSOFFENBURG
SUMMARY:Kinder-Tanz 7 -12 Jahre (252822432) 
LOCATION:Offenburg Kunstschule Atelier 6 Bewegungsatelier, , 
END:VEVENT
BEGIN:VEVENT
DTSTAMP:20260419T163554
DTSTART;TZID=Europe/Berlin:20251127T153000
DTEND;TZID=Europe/Berlin:20251127T163000
UID:252822432-20251127T153000@VHSOFFENBURG
SUMMARY:Kinder-Tanz 7 -12 Jahre (252822432) 
LOCATION:Offenburg Kunstschule Atelier 6 Bewegungsatelier, , 
END:VEVENT
BEGIN:VEVENT
DTSTAMP:20260419T163554
DTSTART;TZID=Europe/Berlin:20251211T153000
DTEND;TZID=Europe/Berlin:20251211T163000
UID:252822432-20251211T153000@VHSOFFENBURG
SUMMARY:Kinder-Tanz 7 -12 Jahre (252822432) 
LOCATION:Offenburg Kunstschule Atelier 6 Bewegungsatelier, , 
END:VEVENT
BEGIN:VEVENT
DTSTAMP:20260419T163554
DTSTART;TZID=Europe/Berlin:20251218T153000
DTEND;TZID=Europe/Berlin:20251218T163000
UID:252822432-20251218T153000@VHSOFFENBURG
SUMMARY:Kinder-Tanz 7 -12 Jahre (252822432) 
LOCATION:Offenburg Kunstschule Atelier 6 Bewegungsatelier, , 
END:VEVENT
BEGIN:VEVENT
DTSTAMP:20260419T163554
DTSTART;TZID=Europe/Berlin:20260108T153000
DTEND;TZID=Europe/Berlin:20260108T163000
UID:252822432-20260108T153000@VHSOFFENBURG
SUMMARY:Kinder-Tanz 7 -12 Jahre (252822432) 
LOCATION:Offenburg Kunstschule Atelier 6 Bewegungsatelier, , 
END:VEVENT
BEGIN:VEVENT
DTSTAMP:20260419T163554
DTSTART;TZID=Europe/Berlin:20260115T153000
DTEND;TZID=Europe/Berlin:20260115T163000
UID:252822432-20260115T153000@VHSOFFENBURG
SUMMARY:Kinder-Tanz 7 -12 Jahre (252822432) 
LOCATION:Offenburg Kunstschule Atelier 6 Bewegungsatelier, , 
END:VEVENT
BEGIN:VEVENT
DTSTAMP:20260419T163554
DTSTART;TZID=Europe/Berlin:20260122T153000
DTEND;TZID=Europe/Berlin:20260122T163000
UID:252822432-20260122T153000@VHSOFFENBURG
SUMMARY:Kinder-Tanz 7 -12 Jahre (252822432) 
LOCATION:Offenburg Kunstschule Atelier 6 Bewegungsatelier, , 
END:VEVENT
BEGIN:VEVENT
DTSTAMP:20260419T163554
DTSTART;TZID=Europe/Berlin:20260129T153000
DTEND;TZID=Europe/Berlin:20260129T163000
UID:252822432-20260129T153000@VHSOFFENBURG
SUMMARY:Kinder-Tanz 7 -12 Jahre (252822432) 
LOCATION:Offenburg Kunstschule Atelier 6 Bewegungsatelier, , 
END:VEVENT
BEGIN:VEVENT
DTSTAMP:20260419T163554
DTSTART;TZID=Europe/Berlin:20260205T153000
DTEND;TZID=Europe/Berlin:20260205T163000
UID:252822432-20260205T153000@VHSOFFENBURG
SUMMARY:Kinder-Tanz 7 -12 Jahre (252822432) 
LOCATION:Offenburg Kunstschule Atelier 6 Bewegungsatelier, , 
END:VEVENT
BEGIN:VEVENT
DTSTAMP:20260419T163554
DTSTART;TZID=Europe/Berlin:20260219T153000
DTEND;TZID=Europe/Berlin:20260219T163000
UID:252822432-20260219T153000@VHSOFFENBURG
SUMMARY:Kinder-Tanz 7 -12 Jahre (252822432) 
LOCATION:Offenburg Kunstschule Atelier 6 Bewegungsatelier, , 
END:VEVENT
BEGIN:VEVENT
DTSTAMP:20260419T163554
DTSTART;TZID=Europe/Berlin:20260226T153000
DTEND;TZID=Europe/Berlin:20260226T163000
UID:252822432-20260226T153000@VHSOFFENBURG
SUMMARY:Kinder-Tanz 7 -12 Jahre (252822432) 
LOCATION:Offenburg Kunstschule Atelier 6 Bewegungsatelier, , 
END:VEVENT
BEGIN:VEVENT
DTSTAMP:20260419T163554
DTSTART;TZID=Europe/Berlin:20260305T153000
DTEND;TZID=Europe/Berlin:20260305T163000
UID:252822432-20260305T153000@VHSOFFENBURG
SUMMARY:Kinder-Tanz 7 -12 Jahre (252822432) 
LOCATION:Offenburg Kunstschule Atelier 6 Bewegungsatelier, , 
END:VEVENT
BEGIN:VEVENT
DTSTAMP:20260419T163554
DTSTART;TZID=Europe/Berlin:20260312T153000
DTEND;TZID=Europe/Berlin:20260312T163000
UID:252822432-20260312T153000@VHSOFFENBURG
SUMMARY:Kinder-Tanz 7 -12 Jahre (252822432) 
LOCATION:Offenburg Kunstschule Atelier 6 Bewegungsatelier, , 
END:VEVENT
BEGIN:VEVENT
DTSTAMP:20260419T163554
DTSTART;TZID=Europe/Berlin:20260319T153000
DTEND;TZID=Europe/Berlin:20260319T163000
UID:252822432-20260319T153000@VHSOFFENBURG
SUMMARY:Kinder-Tanz 7 -12 Jahre (252822432) 
LOCATION:Offenburg Kunstschule Atelier 6 Bewegungsatelier, , 
END:VEVENT
BEGIN:VEVENT
DTSTAMP:20260419T163554
DTSTART;TZID=Europe/Berlin:20260326T153000
DTEND;TZID=Europe/Berlin:20260326T163000
UID:252822432-20260326T153000@VHSOFFENBURG
SUMMARY:Kinder-Tanz 7 -12 Jahre (252822432) 
LOCATION:Offenburg Kunstschule Atelier 6 Bewegungsatelier, , 
END:VEVENT
BEGIN:VEVENT
DTSTAMP:20260419T163554
DTSTART;TZID=Europe/Berlin:20260416T153000
DTEND;TZID=Europe/Berlin:20260416T163000
UID:252822432-20260416T153000@VHSOFFENBURG
SUMMARY:Kinder-Tanz 7 -12 Jahre (252822432) 
LOCATION:Offenburg Kunstschule Atelier 6 Bewegungsatelier, , 
END:VEVENT
BEGIN:VEVENT
DTSTAMP:20260419T163554
DTSTART;TZID=Europe/Berlin:20260423T153000
DTEND;TZID=Europe/Berlin:20260423T163000
UID:252822432-20260423T153000@VHSOFFENBURG
SUMMARY:Kinder-Tanz 7 -12 Jahre (252822432) 
LOCATION:Offenburg Kunstschule Atelier 6 Bewegungsatelier, , 
END:VEVENT
BEGIN:VEVENT
DTSTAMP:20260419T163554
DTSTART;TZID=Europe/Berlin:20260430T153000
DTEND;TZID=Europe/Berlin:20260430T163000
UID:252822432-20260430T153000@VHSOFFENBURG
SUMMARY:Kinder-Tanz 7 -12 Jahre (252822432) 
LOCATION:Offenburg Kunstschule Atelier 6 Bewegungsatelier, , 
END:VEVENT
BEGIN:VEVENT
DTSTAMP:20260419T163554
DTSTART;TZID=Europe/Berlin:20260507T153000
DTEND;TZID=Europe/Berlin:20260507T163000
UID:252822432-20260507T153000@VHSOFFENBURG
DESCRIPTION:Vertretung
SUMMARY:Kinder-Tanz 7 -12 Jahre (252822432) 
LOCATION:Offenburg Kunstschule Atelier 6 Bewegungsatelier, , 
END:VEVENT
BEGIN:VEVENT
DTSTAMP:20260419T163554
DTSTART;TZID=Europe/Berlin:20260521T153000
DTEND;TZID=Europe/Berlin:20260521T163000
UID:252822432-20260521T153000@VHSOFFENBURG
SUMMARY:Kinder-Tanz 7 -12 Jahre (252822432) 
LOCATION:Offenburg Kunstschule Atelier 6 Bewegungsatelier, , 
END:VEVENT
BEGIN:VEVENT
DTSTAMP:20260419T163554
DTSTART;TZID=Europe/Berlin:20260611T153000
DTEND;TZID=Europe/Berlin:20260611T163000
UID:252822432-20260611T153000@VHSOFFENBURG
SUMMARY:Kinder-Tanz 7 -12 Jahre (252822432) 
LOCATION:Offenburg Kunstschule Atelier 6 Bewegungsatelier, , 
END:VEVENT
BEGIN:VEVENT
DTSTAMP:20260419T163554
DTSTART;TZID=Europe/Berlin:20260618T153000
DTEND;TZID=Europe/Berlin:20260618T163000
UID:252822432-20260618T153000@VHSOFFENBURG
SUMMARY:Kinder-Tanz 7 -12 Jahre (252822432) 
LOCATION:Offenburg Kunstschule Atelier 6 Bewegungsatelier, , 
END:VEVENT
BEGIN:VEVENT
DTSTAMP:20260419T163554
DTSTART;TZID=Europe/Berlin:20260625T153000
DTEND;TZID=Europe/Berlin:20260625T163000
UID:252822432-20260625T153000@VHSOFFENBURG
SUMMARY:Kinder-Tanz 7 -12 Jahre (252822432) 
LOCATION:Offenburg Kunstschule Atelier 6 Bewegungsatelier, , 
END:VEVENT
BEGIN:VEVENT
DTSTAMP:20260419T163554
DTSTART;TZID=Europe/Berlin:20260702T153000
DTEND;TZID=Europe/Berlin:20260702T163000
UID:252822432-20260702T153000@VHSOFFENBURG
SUMMARY:Kinder-Tanz 7 -12 Jahre (252822432) 
LOCATION:Offenburg Kunstschule Atelier 6 Bewegungsatelier, , 
END:VEVENT
BEGIN:VEVENT
DTSTAMP:20260419T163554
DTSTART;TZID=Europe/Berlin:20260709T153000
DTEND;TZID=Europe/Berlin:20260709T163000
UID:252822432-20260709T153000@VHSOFFENBURG
SUMMARY:Kinder-Tanz 7 -12 Jahre (252822432) 
LOCATION:Offenburg Kunstschule Atelier 6 Bewegungsatelier, , 
END:VEVENT
BEGIN:VEVENT
DTSTAMP:20260419T163554
DTSTART;TZID=Europe/Berlin:20260716T153000
DTEND;TZID=Europe/Berlin:20260716T163000
UID:252822432-20260716T153000@VHSOFFENBURG
SUMMARY:Kinder-Tanz 7 -12 Jahre (252822432) 
LOCATION:Offenburg Kunstschule Atelier 6 Bewegungsatelier, , 
END:VEVENT
BEGIN:VEVENT
DTSTAMP:20260419T163554
DTSTART;TZID=Europe/Berlin:20260723T153000
DTEND;TZID=Europe/Berlin:20260723T163000
UID:252822432-20260723T153000@VHSOFFENBURG
SUMMARY:Kinder-Tanz 7 -12 Jahre (252822432) 
LOCATION:Offenburg Kunstschule Atelier 6 Bewegungsatelier, , 
END:VEVENT
END:VCALENDAR