BEGIN:VCALENDAR
PRODID:http://www.kufer.de/kuferweb / DE
VERSION:2.0
METHOD:PUBLISH
CALSCALE:GREGORIAN
X-WR-TIMEZONE:Europe/Berlin
BEGIN:VTIMEZONE
TZID:Europe/Berlin
X-LIC-LOCATION:Europe/Berlin
BEGIN:DAYLIGHT
TZOFFSETFROM:+0100
TZOFFSETTO:+0200
TZNAME:CEST
DTSTART;TZID=Europe/Berlin:19700329T020000
RRULE:FREQ=YEARLY;INTERVAL=1;BYDAY=-1SU;BYMONTH=3
END:DAYLIGHT
BEGIN:STANDARD
TZOFFSETFROM:+0200
TZOFFSETTO:+0100
TZNAME:CET
DTSTART;TZID=Europe/Berlin:19701025T030000
RRULE:FREQ=YEARLY;INTERVAL=1;BYDAY=-1SU;BYMONTH=10
END:STANDARD
END:VTIMEZONE
BEGIN:VEVENT
DTSTAMP:20260421T140236
DTSTART;TZID=Europe/Berlin:20260810T093000
DTEND;TZID=Europe/Berlin:20260810T103000
UID:262851202-20260810T093000@VHSOFFENBURG
SUMMARY:Tanz und Bewegungsspiel 4 - 6 Jahre (262851202) 
LOCATION:Offenburg Kunstschule PlanR_MS-405-Orch, , 
END:VEVENT
BEGIN:VEVENT
DTSTAMP:20260421T140236
DTSTART;TZID=Europe/Berlin:20260811T093000
DTEND;TZID=Europe/Berlin:20260811T103000
UID:262851202-20260811T093000@VHSOFFENBURG
SUMMARY:Tanz und Bewegungsspiel 4 - 6 Jahre (262851202) 
LOCATION:Offenburg Kunstschule PlanR_MS-405-Orch, , 
END:VEVENT
BEGIN:VEVENT
DTSTAMP:20260421T140236
DTSTART;TZID=Europe/Berlin:20260812T093000
DTEND;TZID=Europe/Berlin:20260812T103000
UID:262851202-20260812T093000@VHSOFFENBURG
SUMMARY:Tanz und Bewegungsspiel 4 - 6 Jahre (262851202) 
LOCATION:Offenburg Kunstschule PlanR_MS-405-Orch, , 
END:VEVENT
BEGIN:VEVENT
DTSTAMP:20260421T140236
DTSTART;TZID=Europe/Berlin:20260813T093000
DTEND;TZID=Europe/Berlin:20260813T103000
UID:262851202-20260813T093000@VHSOFFENBURG
SUMMARY:Tanz und Bewegungsspiel 4 - 6 Jahre (262851202) 
LOCATION:Offenburg Kunstschule PlanR_MS-405-Orch, , 
END:VEVENT
BEGIN:VEVENT
DTSTAMP:20260421T140236
DTSTART;TZID=Europe/Berlin:20260814T093000
DTEND;TZID=Europe/Berlin:20260814T103000
UID:262851202-20260814T093000@VHSOFFENBURG
SUMMARY:Tanz und Bewegungsspiel 4 - 6 Jahre (262851202) 
LOCATION:Offenburg Kunstschule PlanR_MS-405-Orch, , 
END:VEVENT
END:VCALENDAR