BEGIN:VCALENDAR
PRODID:http://www.kufer.de/kuferweb / DE
VERSION:2.0
METHOD:PUBLISH
CALSCALE:GREGORIAN
X-WR-TIMEZONE:Europe/Berlin
BEGIN:VTIMEZONE
TZID:Europe/Berlin
X-LIC-LOCATION:Europe/Berlin
BEGIN:DAYLIGHT
TZOFFSETFROM:+0100
TZOFFSETTO:+0200
TZNAME:CEST
DTSTART;TZID=Europe/Berlin:19700329T020000
RRULE:FREQ=YEARLY;INTERVAL=1;BYDAY=-1SU;BYMONTH=3
END:DAYLIGHT
BEGIN:STANDARD
TZOFFSETFROM:+0200
TZOFFSETTO:+0100
TZNAME:CET
DTSTART;TZID=Europe/Berlin:19701025T030000
RRULE:FREQ=YEARLY;INTERVAL=1;BYDAY=-1SU;BYMONTH=10
END:STANDARD
END:VTIMEZONE
BEGIN:VEVENT
DTSTAMP:20260421T153725
DTSTART;TZID=Europe/Berlin:20260810T103000
DTEND;TZID=Europe/Berlin:20260810T120000
UID:262851204-20260810T103000@VHSOFFENBURG
SUMMARY:Erstes Theaterspielen 3 - 5 Jahre (262851204) 
LOCATION:Offenburg VHS 112 Bewegung , , 
END:VEVENT
BEGIN:VEVENT
DTSTAMP:20260421T153725
DTSTART;TZID=Europe/Berlin:20260811T103000
DTEND;TZID=Europe/Berlin:20260811T120000
UID:262851204-20260811T103000@VHSOFFENBURG
SUMMARY:Erstes Theaterspielen 3 - 5 Jahre (262851204) 
LOCATION:Offenburg VHS 112 Bewegung , , 
END:VEVENT
BEGIN:VEVENT
DTSTAMP:20260421T153725
DTSTART;TZID=Europe/Berlin:20260812T103000
DTEND;TZID=Europe/Berlin:20260812T120000
UID:262851204-20260812T103000@VHSOFFENBURG
SUMMARY:Erstes Theaterspielen 3 - 5 Jahre (262851204) 
LOCATION:Offenburg VHS 112 Bewegung , , 
END:VEVENT
END:VCALENDAR