BEGIN:VCALENDAR
PRODID:http://www.kufer.de/kuferweb / DE
VERSION:2.0
METHOD:PUBLISH
CALSCALE:GREGORIAN
X-WR-TIMEZONE:Europe/Berlin
BEGIN:VTIMEZONE
TZID:Europe/Berlin
X-LIC-LOCATION:Europe/Berlin
BEGIN:DAYLIGHT
TZOFFSETFROM:+0100
TZOFFSETTO:+0200
TZNAME:CEST
DTSTART;TZID=Europe/Berlin:19700329T020000
RRULE:FREQ=YEARLY;INTERVAL=1;BYDAY=-1SU;BYMONTH=3
END:DAYLIGHT
BEGIN:STANDARD
TZOFFSETFROM:+0200
TZOFFSETTO:+0100
TZNAME:CET
DTSTART;TZID=Europe/Berlin:19701025T030000
RRULE:FREQ=YEARLY;INTERVAL=1;BYDAY=-1SU;BYMONTH=10
END:STANDARD
END:VTIMEZONE
BEGIN:VEVENT
DTSTAMP:20260421T105304
DTSTART;TZID=Europe/Berlin:20260810T113000
DTEND;TZID=Europe/Berlin:20260810T143000
UID:262852211-20260810T113000@VHSOFFENBURG
SUMMARY:Dekorative Schrifttafeln aus Holz 10 - 15 Jahre (262852211) 
LOCATION:Offenburg Kunstschule Atelier 8 Holzwerkstatt, , 
END:VEVENT
BEGIN:VEVENT
DTSTAMP:20260421T105304
DTSTART;TZID=Europe/Berlin:20260811T113000
DTEND;TZID=Europe/Berlin:20260811T143000
UID:262852211-20260811T113000@VHSOFFENBURG
SUMMARY:Dekorative Schrifttafeln aus Holz 10 - 15 Jahre (262852211) 
LOCATION:Offenburg Kunstschule Atelier 8 Holzwerkstatt, , 
END:VEVENT
BEGIN:VEVENT
DTSTAMP:20260421T105304
DTSTART;TZID=Europe/Berlin:20260812T113000
DTEND;TZID=Europe/Berlin:20260812T143000
UID:262852211-20260812T113000@VHSOFFENBURG
SUMMARY:Dekorative Schrifttafeln aus Holz 10 - 15 Jahre (262852211) 
LOCATION:Offenburg Kunstschule Atelier 8 Holzwerkstatt, , 
END:VEVENT
BEGIN:VEVENT
DTSTAMP:20260421T105304
DTSTART;TZID=Europe/Berlin:20260813T113000
DTEND;TZID=Europe/Berlin:20260813T143000
UID:262852211-20260813T113000@VHSOFFENBURG
SUMMARY:Dekorative Schrifttafeln aus Holz 10 - 15 Jahre (262852211) 
LOCATION:Offenburg Kunstschule Atelier 8 Holzwerkstatt, , 
END:VEVENT
END:VCALENDAR