BEGIN:VCALENDAR
PRODID:http://www.kufer.de/kuferweb / DE
VERSION:2.0
METHOD:PUBLISH
CALSCALE:GREGORIAN
X-WR-TIMEZONE:Europe/Berlin
BEGIN:VTIMEZONE
TZID:Europe/Berlin
X-LIC-LOCATION:Europe/Berlin
BEGIN:DAYLIGHT
TZOFFSETFROM:+0100
TZOFFSETTO:+0200
TZNAME:CEST
DTSTART;TZID=Europe/Berlin:19700329T020000
RRULE:FREQ=YEARLY;INTERVAL=1;BYDAY=-1SU;BYMONTH=3
END:DAYLIGHT
BEGIN:STANDARD
TZOFFSETFROM:+0200
TZOFFSETTO:+0100
TZNAME:CET
DTSTART;TZID=Europe/Berlin:19701025T030000
RRULE:FREQ=YEARLY;INTERVAL=1;BYDAY=-1SU;BYMONTH=10
END:STANDARD
END:VTIMEZONE
BEGIN:VEVENT
DTSTAMP:20260421T140949
DTSTART;TZID=Europe/Berlin:20260810T140000
DTEND;TZID=Europe/Berlin:20260810T170000
UID:262852213-20260810T140000@VHSOFFENBURG
SUMMARY:Mangas zeichnen 8 - 14 Jahre (262852213) 
LOCATION:Offenburg Kunstschule Atelier 4, , 
END:VEVENT
BEGIN:VEVENT
DTSTAMP:20260421T140949
DTSTART;TZID=Europe/Berlin:20260811T140000
DTEND;TZID=Europe/Berlin:20260811T170000
UID:262852213-20260811T140000@VHSOFFENBURG
SUMMARY:Mangas zeichnen 8 - 14 Jahre (262852213) 
LOCATION:Offenburg Kunstschule Atelier 4, , 
END:VEVENT
BEGIN:VEVENT
DTSTAMP:20260421T140949
DTSTART;TZID=Europe/Berlin:20260812T140000
DTEND;TZID=Europe/Berlin:20260812T170000
UID:262852213-20260812T140000@VHSOFFENBURG
SUMMARY:Mangas zeichnen 8 - 14 Jahre (262852213) 
LOCATION:Offenburg Kunstschule Atelier 4, , 
END:VEVENT
BEGIN:VEVENT
DTSTAMP:20260421T140949
DTSTART;TZID=Europe/Berlin:20260813T140000
DTEND;TZID=Europe/Berlin:20260813T170000
UID:262852213-20260813T140000@VHSOFFENBURG
SUMMARY:Mangas zeichnen 8 - 14 Jahre (262852213) 
LOCATION:Offenburg Kunstschule Atelier 4, , 
END:VEVENT
END:VCALENDAR