BEGIN:VCALENDAR
PRODID:http://www.kufer.de/kuferweb / DE
VERSION:2.0
METHOD:PUBLISH
CALSCALE:GREGORIAN
X-WR-TIMEZONE:Europe/Berlin
BEGIN:VTIMEZONE
TZID:Europe/Berlin
X-LIC-LOCATION:Europe/Berlin
BEGIN:DAYLIGHT
TZOFFSETFROM:+0100
TZOFFSETTO:+0200
TZNAME:CEST
DTSTART;TZID=Europe/Berlin:19700329T020000
RRULE:FREQ=YEARLY;INTERVAL=1;BYDAY=-1SU;BYMONTH=3
END:DAYLIGHT
BEGIN:STANDARD
TZOFFSETFROM:+0200
TZOFFSETTO:+0100
TZNAME:CET
DTSTART;TZID=Europe/Berlin:19701025T030000
RRULE:FREQ=YEARLY;INTERVAL=1;BYDAY=-1SU;BYMONTH=10
END:STANDARD
END:VTIMEZONE
BEGIN:VEVENT
DTSTAMP:20260420T154324
DTSTART;TZID=Europe/Berlin:20260817T133000
DTEND;TZID=Europe/Berlin:20260817T153000
UID:262852303-20260817T133000@VHSOFFENBURG
SUMMARY:Kindermusical - singen, tanzen, musizieren 8 - 12 Jahre (262852303) 
LOCATION:Offenburg Kunstschule PlanR_MS-405-Orch, , 
END:VEVENT
BEGIN:VEVENT
DTSTAMP:20260420T154324
DTSTART;TZID=Europe/Berlin:20260818T133000
DTEND;TZID=Europe/Berlin:20260818T153000
UID:262852303-20260818T133000@VHSOFFENBURG
SUMMARY:Kindermusical - singen, tanzen, musizieren 8 - 12 Jahre (262852303) 
LOCATION:Offenburg Kunstschule PlanR_MS-405-Orch, , 
END:VEVENT
BEGIN:VEVENT
DTSTAMP:20260420T154324
DTSTART;TZID=Europe/Berlin:20260819T133000
DTEND;TZID=Europe/Berlin:20260819T153000
UID:262852303-20260819T133000@VHSOFFENBURG
SUMMARY:Kindermusical - singen, tanzen, musizieren 8 - 12 Jahre (262852303) 
LOCATION:Offenburg Kunstschule PlanR_MS-405-Orch, , 
END:VEVENT
BEGIN:VEVENT
DTSTAMP:20260420T154324
DTSTART;TZID=Europe/Berlin:20260820T133000
DTEND;TZID=Europe/Berlin:20260820T153000
UID:262852303-20260820T133000@VHSOFFENBURG
SUMMARY:Kindermusical - singen, tanzen, musizieren 8 - 12 Jahre (262852303) 
LOCATION:Offenburg Kunstschule PlanR_MS-405-Orch, , 
END:VEVENT
BEGIN:VEVENT
DTSTAMP:20260420T154324
DTSTART;TZID=Europe/Berlin:20260821T133000
DTEND;TZID=Europe/Berlin:20260821T153000
UID:262852303-20260821T133000@VHSOFFENBURG
SUMMARY:Kindermusical - singen, tanzen, musizieren 8 - 12 Jahre (262852303) 
LOCATION:Offenburg Kunstschule PlanR_MS-405-Orch, , 
END:VEVENT
END:VCALENDAR