BEGIN:VCALENDAR
PRODID:http://www.kufer.de/kuferweb / DE
VERSION:2.0
METHOD:PUBLISH
CALSCALE:GREGORIAN
X-WR-TIMEZONE:Europe/Berlin
BEGIN:VTIMEZONE
TZID:Europe/Berlin
X-LIC-LOCATION:Europe/Berlin
BEGIN:DAYLIGHT
TZOFFSETFROM:+0100
TZOFFSETTO:+0200
TZNAME:CEST
DTSTART;TZID=Europe/Berlin:19700329T020000
RRULE:FREQ=YEARLY;INTERVAL=1;BYDAY=-1SU;BYMONTH=3
END:DAYLIGHT
BEGIN:STANDARD
TZOFFSETFROM:+0200
TZOFFSETTO:+0100
TZNAME:CET
DTSTART;TZID=Europe/Berlin:19701025T030000
RRULE:FREQ=YEARLY;INTERVAL=1;BYDAY=-1SU;BYMONTH=10
END:STANDARD
END:VTIMEZONE
BEGIN:VEVENT
DTSTAMP:20260421T123254
DTSTART;TZID=Europe/Berlin:20260817T100000
DTEND;TZID=Europe/Berlin:20260817T130000
UID:262852306-20260817T100000@VHSOFFENBURG
SUMMARY:Trickfilmwerkstatt  8 - 14 Jahre (262852306) 
LOCATION:Offenburg Kunstschule Medienatelier, , 
END:VEVENT
BEGIN:VEVENT
DTSTAMP:20260421T123254
DTSTART;TZID=Europe/Berlin:20260818T100000
DTEND;TZID=Europe/Berlin:20260818T130000
UID:262852306-20260818T100000@VHSOFFENBURG
SUMMARY:Trickfilmwerkstatt  8 - 14 Jahre (262852306) 
LOCATION:Offenburg Kunstschule Medienatelier, , 
END:VEVENT
BEGIN:VEVENT
DTSTAMP:20260421T123254
DTSTART;TZID=Europe/Berlin:20260819T100000
DTEND;TZID=Europe/Berlin:20260819T130000
UID:262852306-20260819T100000@VHSOFFENBURG
SUMMARY:Trickfilmwerkstatt  8 - 14 Jahre (262852306) 
LOCATION:Offenburg Kunstschule Medienatelier, , 
END:VEVENT
BEGIN:VEVENT
DTSTAMP:20260421T123254
DTSTART;TZID=Europe/Berlin:20260820T100000
DTEND;TZID=Europe/Berlin:20260820T130000
UID:262852306-20260820T100000@VHSOFFENBURG
SUMMARY:Trickfilmwerkstatt  8 - 14 Jahre (262852306) 
LOCATION:Offenburg Kunstschule Medienatelier, , 
END:VEVENT
END:VCALENDAR