BEGIN:VCALENDAR
PRODID:http://www.kufer.de/kuferweb / DE
VERSION:2.0
METHOD:PUBLISH
CALSCALE:GREGORIAN
X-WR-TIMEZONE:Europe/Berlin
BEGIN:VTIMEZONE
TZID:Europe/Berlin
X-LIC-LOCATION:Europe/Berlin
BEGIN:DAYLIGHT
TZOFFSETFROM:+0100
TZOFFSETTO:+0200
TZNAME:CEST
DTSTART;TZID=Europe/Berlin:19700329T020000
RRULE:FREQ=YEARLY;INTERVAL=1;BYDAY=-1SU;BYMONTH=3
END:DAYLIGHT
BEGIN:STANDARD
TZOFFSETFROM:+0200
TZOFFSETTO:+0100
TZNAME:CET
DTSTART;TZID=Europe/Berlin:19701025T030000
RRULE:FREQ=YEARLY;INTERVAL=1;BYDAY=-1SU;BYMONTH=10
END:STANDARD
END:VTIMEZONE
BEGIN:VEVENT
DTSTAMP:20260421T192917
DTSTART;TZID=Europe/Berlin:20260817T100000
DTEND;TZID=Europe/Berlin:20260817T130000
UID:262852307-20260817T100000@VHSOFFENBURG
SUMMARY:Urzeit-Atelier: Dinos und Höhlenkunst 6 - 10 Jahre (262852307) 
LOCATION:Offenburg Kunstschule Atelier 5, , 
END:VEVENT
BEGIN:VEVENT
DTSTAMP:20260421T192917
DTSTART;TZID=Europe/Berlin:20260818T100000
DTEND;TZID=Europe/Berlin:20260818T130000
UID:262852307-20260818T100000@VHSOFFENBURG
SUMMARY:Urzeit-Atelier: Dinos und Höhlenkunst 6 - 10 Jahre (262852307) 
LOCATION:Offenburg Kunstschule Atelier 5, , 
END:VEVENT
BEGIN:VEVENT
DTSTAMP:20260421T192917
DTSTART;TZID=Europe/Berlin:20260819T100000
DTEND;TZID=Europe/Berlin:20260819T130000
UID:262852307-20260819T100000@VHSOFFENBURG
SUMMARY:Urzeit-Atelier: Dinos und Höhlenkunst 6 - 10 Jahre (262852307) 
LOCATION:Offenburg Kunstschule Atelier 5, , 
END:VEVENT
END:VCALENDAR