BEGIN:VCALENDAR
PRODID:http://www.kufer.de/kuferweb / DE
VERSION:2.0
METHOD:PUBLISH
CALSCALE:GREGORIAN
X-WR-TIMEZONE:Europe/Berlin
BEGIN:VTIMEZONE
TZID:Europe/Berlin
X-LIC-LOCATION:Europe/Berlin
BEGIN:DAYLIGHT
TZOFFSETFROM:+0100
TZOFFSETTO:+0200
TZNAME:CEST
DTSTART;TZID=Europe/Berlin:19700329T020000
RRULE:FREQ=YEARLY;INTERVAL=1;BYDAY=-1SU;BYMONTH=3
END:DAYLIGHT
BEGIN:STANDARD
TZOFFSETFROM:+0200
TZOFFSETTO:+0100
TZNAME:CET
DTSTART;TZID=Europe/Berlin:19701025T030000
RRULE:FREQ=YEARLY;INTERVAL=1;BYDAY=-1SU;BYMONTH=10
END:STANDARD
END:VTIMEZONE
BEGIN:VEVENT
DTSTAMP:20260421T153817
DTSTART;TZID=Europe/Berlin:20260803T170000
DTEND;TZID=Europe/Berlin:20260803T200000
UID:262853117-20260803T170000@VHSOFFENBURG
SUMMARY:Rollenspiel & Improvisation 12 - 17 Jahre (262853117) 
LOCATION:Offenburg Kunstschule Atelier 6 Bewegungsatelier, , 
END:VEVENT
BEGIN:VEVENT
DTSTAMP:20260421T153817
DTSTART;TZID=Europe/Berlin:20260804T170000
DTEND;TZID=Europe/Berlin:20260804T200000
UID:262853117-20260804T170000@VHSOFFENBURG
SUMMARY:Rollenspiel & Improvisation 12 - 17 Jahre (262853117) 
LOCATION:Offenburg Kunstschule Atelier 6 Bewegungsatelier, , 
END:VEVENT
BEGIN:VEVENT
DTSTAMP:20260421T153817
DTSTART;TZID=Europe/Berlin:20260805T170000
DTEND;TZID=Europe/Berlin:20260805T200000
UID:262853117-20260805T170000@VHSOFFENBURG
SUMMARY:Rollenspiel & Improvisation 12 - 17 Jahre (262853117) 
LOCATION:Offenburg Kunstschule Atelier 6 Bewegungsatelier, , 
END:VEVENT
BEGIN:VEVENT
DTSTAMP:20260421T153817
DTSTART;TZID=Europe/Berlin:20260806T170000
DTEND;TZID=Europe/Berlin:20260806T200000
UID:262853117-20260806T170000@VHSOFFENBURG
SUMMARY:Rollenspiel & Improvisation 12 - 17 Jahre (262853117) 
LOCATION:Offenburg Kunstschule Atelier 6 Bewegungsatelier, , 
END:VEVENT
BEGIN:VEVENT
DTSTAMP:20260421T153817
DTSTART;TZID=Europe/Berlin:20260807T170000
DTEND;TZID=Europe/Berlin:20260807T200000
UID:262853117-20260807T170000@VHSOFFENBURG
SUMMARY:Rollenspiel & Improvisation 12 - 17 Jahre (262853117) 
LOCATION:Offenburg Kunstschule Atelier 6 Bewegungsatelier, , 
END:VEVENT
END:VCALENDAR