BEGIN:VCALENDAR
PRODID:http://www.kufer.de/kuferweb / DE
VERSION:2.0
METHOD:PUBLISH
CALSCALE:GREGORIAN
X-WR-TIMEZONE:Europe/Berlin
BEGIN:VTIMEZONE
TZID:Europe/Berlin
X-LIC-LOCATION:Europe/Berlin
BEGIN:DAYLIGHT
TZOFFSETFROM:+0100
TZOFFSETTO:+0200
TZNAME:CEST
DTSTART;TZID=Europe/Berlin:19700329T020000
RRULE:FREQ=YEARLY;INTERVAL=1;BYDAY=-1SU;BYMONTH=3
END:DAYLIGHT
BEGIN:STANDARD
TZOFFSETFROM:+0200
TZOFFSETTO:+0100
TZNAME:CET
DTSTART;TZID=Europe/Berlin:19701025T030000
RRULE:FREQ=YEARLY;INTERVAL=1;BYDAY=-1SU;BYMONTH=10
END:STANDARD
END:VTIMEZONE
BEGIN:VEVENT
DTSTAMP:20260420T154329
DTSTART;TZID=Europe/Berlin:20260810T150000
DTEND;TZID=Europe/Berlin:20260810T180000
UID:262853203-20260810T150000@VHSOFFENBURG
SUMMARY:Häuser, Dosen, Türme aus Ton 13 - 17 Jahre (262853203) 
LOCATION:Offenburg Kunstschule Atelier 8 Holzwerkstatt, , 
END:VEVENT
BEGIN:VEVENT
DTSTAMP:20260420T154329
DTSTART;TZID=Europe/Berlin:20260811T150000
DTEND;TZID=Europe/Berlin:20260811T180000
UID:262853203-20260811T150000@VHSOFFENBURG
SUMMARY:Häuser, Dosen, Türme aus Ton 13 - 17 Jahre (262853203) 
LOCATION:Offenburg Kunstschule Atelier 8 Holzwerkstatt, , 
END:VEVENT
BEGIN:VEVENT
DTSTAMP:20260420T154329
DTSTART;TZID=Europe/Berlin:20260812T150000
DTEND;TZID=Europe/Berlin:20260812T180000
UID:262853203-20260812T150000@VHSOFFENBURG
SUMMARY:Häuser, Dosen, Türme aus Ton 13 - 17 Jahre (262853203) 
LOCATION:Offenburg Kunstschule Atelier 8 Holzwerkstatt, , 
END:VEVENT
BEGIN:VEVENT
DTSTAMP:20260420T154329
DTSTART;TZID=Europe/Berlin:20260813T150000
DTEND;TZID=Europe/Berlin:20260813T180000
UID:262853203-20260813T150000@VHSOFFENBURG
SUMMARY:Häuser, Dosen, Türme aus Ton 13 - 17 Jahre (262853203) 
LOCATION:Offenburg Kunstschule Atelier 8 Holzwerkstatt, , 
END:VEVENT
END:VCALENDAR