BEGIN:VCALENDAR
PRODID:http://www.kufer.de/kuferweb / DE
VERSION:2.0
METHOD:PUBLISH
CALSCALE:GREGORIAN
X-WR-TIMEZONE:Europe/Berlin
BEGIN:VTIMEZONE
TZID:Europe/Berlin
X-LIC-LOCATION:Europe/Berlin
BEGIN:DAYLIGHT
TZOFFSETFROM:+0100
TZOFFSETTO:+0200
TZNAME:CEST
DTSTART;TZID=Europe/Berlin:19700329T020000
RRULE:FREQ=YEARLY;INTERVAL=1;BYDAY=-1SU;BYMONTH=3
END:DAYLIGHT
BEGIN:STANDARD
TZOFFSETFROM:+0200
TZOFFSETTO:+0100
TZNAME:CET
DTSTART;TZID=Europe/Berlin:19701025T030000
RRULE:FREQ=YEARLY;INTERVAL=1;BYDAY=-1SU;BYMONTH=10
END:STANDARD
END:VTIMEZONE
BEGIN:VEVENT
DTSTAMP:20260420T140301
DTSTART;TZID=Europe/Berlin:20260810T093000
DTEND;TZID=Europe/Berlin:20260810T110000
UID:262854201-20260810T093000@VHSOFFENBURG
SUMMARY:Das Malspiel im Malort für jedes Alter (262854201) 
LOCATION:Offenburg Kunstschule Closlieu , , 
END:VEVENT
BEGIN:VEVENT
DTSTAMP:20260420T140301
DTSTART;TZID=Europe/Berlin:20260811T093000
DTEND;TZID=Europe/Berlin:20260811T110000
UID:262854201-20260811T093000@VHSOFFENBURG
SUMMARY:Das Malspiel im Malort für jedes Alter (262854201) 
LOCATION:Offenburg Kunstschule Closlieu , , 
END:VEVENT
BEGIN:VEVENT
DTSTAMP:20260420T140301
DTSTART;TZID=Europe/Berlin:20260812T093000
DTEND;TZID=Europe/Berlin:20260812T110000
UID:262854201-20260812T093000@VHSOFFENBURG
SUMMARY:Das Malspiel im Malort für jedes Alter (262854201) 
LOCATION:Offenburg Kunstschule Closlieu , , 
END:VEVENT
BEGIN:VEVENT
DTSTAMP:20260420T140301
DTSTART;TZID=Europe/Berlin:20260813T093000
DTEND;TZID=Europe/Berlin:20260813T110000
UID:262854201-20260813T093000@VHSOFFENBURG
SUMMARY:Das Malspiel im Malort für jedes Alter (262854201) 
LOCATION:Offenburg Kunstschule Closlieu , , 
END:VEVENT
END:VCALENDAR